BEGIN:VCALENDAR
VERSION:2.0
PRODID:-//ChamberMaster//Event Calendar 2.0//EN
METHOD:PUBLISH
X-PUBLISHED-TTL:P3D
REFRESH-INTERVAL:P3D
CALSCALE:GREGORIAN
BEGIN:VEVENT
DTSTART:20250830T000000Z
DTEND:20250830T030000Z
X-MICROSOFT-CDO-ALLDAYEVENT:FALSE
SUMMARY:DJ Night!
DESCRIPTION:Join us at the bar at Conrad's Abingdon for our monthly DJ night. A live DJ and drink specials will round out your Friday night entertainment!
X-ALT-DESC;FMTTYPE=text/html:Join us at the bar at Conrad&#39\;s Abingdon for our monthly DJ night. A live DJ and drink specials will round out your Friday night entertainment!
LOCATION:Conrad's Seafood Restaurant - Abingdon
UID:e.2776.16043
SEQUENCE:3
DTSTAMP:20260421T130828Z
URL:https://business.harfordchamber.org/events/details/dj-night-16043
END:VEVENT

END:VCALENDAR
