BEGIN:VCALENDAR
VERSION:2.0
PRODID:-//ChamberMaster//Event Calendar 2.0//EN
METHOD:PUBLISH
X-PUBLISHED-TTL:P3D
REFRESH-INTERVAL:P3D
CALSCALE:GREGORIAN
BEGIN:VEVENT
DTSTART:20191112T140000Z
DTEND:20191112T150000Z
X-MICROSOFT-CDO-ALLDAYEVENT:FALSE
SUMMARY:Early Childhood Mini Morning
DESCRIPTION:Early Childhood Mini Mornings provide an opportunity for a parent or other caregiver and their child to spend an hour in our K-Prep or Kindergarten classrooms. A fun\, low-pressure introduction to our program\, children get to explore and visit "big school" while parents have an opportunity to interact with teachers\, administrators\, and other parents\, ask questions\, and see our program in action. Your morning may also include a student-led campus tour.\n\nPlease register for the event HERE
X-ALT-DESC;FMTTYPE=text/html:<p><strong>Early Childhood Mini Mornings</strong>&nbsp\;provide an opportunity for a parent or other caregiver and their child to spend an hour in our K-Prep or Kindergarten classrooms. A fun\, low-pressure introduction to our program\, children get to explore and visit &quot\;big school&quot\; while parents have an opportunity to interact with teachers\, administrators\, and other parents\, ask questions\, and see our program in action. Your morning may also include a student-led campus tour.</p>\n\n<p><strong>Please register for the event&nbsp\;<a href="https://www.harfordday.org/admissions/schedule-a-visit/early-childhood-mini-mornings">HERE</a></strong></p>\n
LOCATION:Harford Day School 715 Moores Mill Road Bel Air\, MD 21014
UID:e.2776.8566
SEQUENCE:3
DTSTAMP:20260424T221047Z
URL:https://business.harfordchamber.org/events/details/early-childhood-mini-morning-8566
END:VEVENT

END:VCALENDAR
