BEGIN:VCALENDAR
VERSION:2.0
PRODID:-//ChamberMaster//Event Calendar 2.0//EN
METHOD:PUBLISH
X-PUBLISHED-TTL:P3D
REFRESH-INTERVAL:P3D
CALSCALE:GREGORIAN
BEGIN:VEVENT
DTSTART:20220331T120000Z
DTEND:20220331T140000Z
X-MICROSOFT-CDO-ALLDAYEVENT:FALSE
SUMMARY:Economic Outlook Breakfast
DESCRIPTION:Join us for our 2022 Economic Outlook Breakfast at Water's Edge Events Center! Featuring key speakers Dr. Daraius Irani\, Vice President of Strategic Partnerships & Applied Research at Towson University\; Len Parrish\, Director of the Harford County Office of Community & Economic Development\; and Rick Fletcher of The Kelly Group.
X-ALT-DESC;FMTTYPE=text/html:Join us for our 2022 Economic Outlook Breakfast at Water&#39\;s Edge Events Center! Featuring key speakers Dr. Daraius Irani\, Vice President of Strategic Partnerships &amp\; Applied Research at Towson University\; Len Parrish\, Director of the Harford County Office of Community &amp\; Economic Development\; and Rick Fletcher of The Kelly Group.&nbsp\;
LOCATION:Water's Edge Event Center 4687 Millennium Drive Belcamp\, MD 21017
UID:e.2776.12744
SEQUENCE:3
DTSTAMP:20260423T182305Z
URL:https://business.harfordchamber.org/events/details/economic-forecast-breakfast-12744
END:VEVENT

END:VCALENDAR
