BEGIN:VCALENDAR
VERSION:2.0
PRODID:-//ChamberMaster//Event Calendar 2.0//EN
METHOD:PUBLISH
X-PUBLISHED-TTL:P3D
REFRESH-INTERVAL:P3D
CALSCALE:GREGORIAN
BEGIN:VEVENT
DTSTART:20190916T120000Z
DTEND:20190916T140000Z
X-MICROSOFT-CDO-ALLDAYEVENT:FALSE
SUMMARY:Eggs & Issues: Legislative Breakfast
DESCRIPTION:Sit down with your elected officials and local leaders to discuss current issues and the upcoming legislative session! Each attendee will be seated at a table focused on a specific issue of interest.
X-ALT-DESC;FMTTYPE=text/html:Sit down with your elected officials and local leaders to discuss current issues and the upcoming legislative session! Each attendee will be seated at a table focused on a specific issue of interest.&nbsp\;
LOCATION:Harford Community College Chesapeake Dining Room 401 Thomas Run Road Bel Air\, MD 21015
UID:e.2776.8493
SEQUENCE:3
DTSTAMP:20260425T233403Z
URL:https://business.harfordchamber.org/events/details/eggs-issues-legislative-breakfast-8493
END:VEVENT

END:VCALENDAR
