BEGIN:VCALENDAR
VERSION:2.0
PRODID:-//ChamberMaster//Event Calendar 2.0//EN
METHOD:PUBLISH
X-PUBLISHED-TTL:P3D
REFRESH-INTERVAL:P3D
CALSCALE:GREGORIAN
BEGIN:VEVENT
DTSTART:20250501T120000Z
DTEND:20250501T200000Z
X-MICROSOFT-CDO-ALLDAYEVENT:FALSE
SUMMARY:Elite Home Entertainment's 1st Annual Golf Event benefitting The Harford Family House
DESCRIPTION:Tee up for Togetherness - Swing into a day of fun!\n\nElite Home Entertainment's 1st Annual Golf Event\n\nbenefitting The Harford Family House\n\n\n\nPlease Join us Thursday\, May 1st 2025 at Mountain Branch Golf\n\nElite Home Entertainment is thrilled to partner with The Harford Family House for this special 1st Annual Golf event! All net proceeds from this event will be donated to support the incredible work of Harford Family House and their mission to provide shelter\, support & resources to families with Children who experience homeless in Harford County. Additional donations can be made directly on this event page. Together\, let's make this golf event one to remember while giving back to our community.
X-ALT-DESC;FMTTYPE=text/html:Tee up for Togetherness - Swing into a day of fun!<br />\nElite Home Entertainment&#39\;s 1st Annual Golf Event<br />\nbenefitting The Harford Family House<br />\n<br />\nPlease Join us Thursday\, May 1st 2025 at Mountain Branch Golf<br />\nElite Home Entertainment is thrilled to partner with The Harford Family House for this special 1st Annual Golf event! All net proceeds from this event will be donated to support the incredible work of Harford Family House and their mission to provide shelter\, support &amp\; resources to families with Children who experience homeless in Harford County. Additional donations can be made directly on this event page. Together\, let&#39\;s make this golf event one to remember while giving back to our community.
LOCATION:Mountain Branch 1827 Mountain Rd\, Joppa\, MD 21085 www.mountainbranch.com
UID:e.2776.15691
SEQUENCE:3
DTSTAMP:20260421T184550Z
URL:https://business.harfordchamber.org/events/details/elite-home-entertainment-s-1st-annual-golf-event-benefitting-the-harford-family-house-15691
END:VEVENT

END:VCALENDAR
