BEGIN:VCALENDAR
VERSION:2.0
PRODID:-//ChamberMaster//Event Calendar 2.0//EN
METHOD:PUBLISH
X-PUBLISHED-TTL:P3D
REFRESH-INTERVAL:P3D
CALSCALE:GREGORIAN
BEGIN:VEVENT
DTSTART:20220323T130000Z
DTEND:20220323T143000Z
X-MICROSOFT-CDO-ALLDAYEVENT:FALSE
SUMMARY:Engaging Entrepreneurs Series: Virtual Coffee Chat
DESCRIPTION:Venture Access and The Harford County Chamber of Commerce are launching this brand new opportunity geared toward budding entrepreneurs and new small business owners. \n\n\n\nIntroducing the Entrepreneur Engagement Series! This new virtual series will occur quarterly and will present an opportunity for networking and peer-to-peer support! As a new small business owner you may be faced with challenges and just need to brainstorm with a peer or seek input from resource partners in the community and this event will create a safe space to do so! With the added bonus of meeting fellow entrepreneurs\, business owners\, and dreamers!
X-ALT-DESC;FMTTYPE=text/html:Venture Access and The Harford County Chamber of Commerce are launching this brand new opportunity geared toward budding entrepreneurs and new small business owners.&nbsp\;<br />\n<br />\nIntroducing the Entrepreneur Engagement Series! This new virtual series will occur quarterly and will present an opportunity for networking and peer-to-peer support! As a new small business owner you may be faced with challenges and just need to brainstorm with a peer or seek input from resource partners in the community and this event will create a safe space to do so! With the added bonus of meeting fellow entrepreneurs\, business owners\, and dreamers!&nbsp\;
LOCATION:Join us on Zoom! You must register in order to receive access information for the Zoom event. *Please be advised that Zoom login credentials will be different for EACH occurrence so if you plan to attend more than one\, you must register separately for each as they are opened for registration*
UID:e.2776.12766
SEQUENCE:3
DTSTAMP:20260423T181714Z
URL:https://business.harfordchamber.org/events/details/engaging-entrepreneurs-series-virtual-coffee-chat-12766
END:VEVENT

END:VCALENDAR
