BEGIN:VCALENDAR
VERSION:2.0
PRODID:-//ChamberMaster//Event Calendar 2.0//EN
METHOD:PUBLISH
X-PUBLISHED-TTL:P3D
REFRESH-INTERVAL:P3D
CALSCALE:GREGORIAN
BEGIN:VEVENT
DTSTART:20190922T180000Z
DTEND:20190922T220000Z
X-MICROSOFT-CDO-ALLDAYEVENT:FALSE
SUMMARY:Fall in Love with Art in Bel Air
DESCRIPTION:Join Harford Artists' and the tenants of Bel Air Armory Marketplace on Sunday afternoon\, September 22 from 2:00 - 6:00. There will be face painting\, caricature drawings\, mural painting\, lots of fun arts and crafts for all ages\, music\, local authors\, yoga and fun photo booths!
X-ALT-DESC;FMTTYPE=text/html:Join Harford Artists&#39\; and the tenants of Bel Air Armory Marketplace on Sunday afternoon\, September 22 from 2:00 - 6:00. There will be face painting\, caricature drawings\, mural painting\, lots of fun arts and crafts for all ages\, music\, local authors\, yoga and fun photo booths!
LOCATION:Bel Air Armory Marketplace 37 N. Main Street (Parking lot located on Lee St)
UID:e.2776.8459
SEQUENCE:3
DTSTAMP:20260425T234137Z
URL:https://business.harfordchamber.org/events/details/fall-in-love-with-art-in-bel-air-8459
END:VEVENT

END:VCALENDAR
