BEGIN:VCALENDAR
VERSION:2.0
PRODID:-//ChamberMaster//Event Calendar 2.0//EN
METHOD:PUBLISH
X-PUBLISHED-TTL:P3D
REFRESH-INTERVAL:P3D
CALSCALE:GREGORIAN
BEGIN:VEVENT
DTSTART:20190922T180000Z
DTEND:20190922T220000Z
X-MICROSOFT-CDO-ALLDAYEVENT:FALSE
SUMMARY:Family Art Festival Day
DESCRIPTION:Harford Artists' Gallery announces the annual Family Art Festival\, Sept 22nd\, from 2-6 pm at the Harford Artists' Gallery\, 37 North Main St\, suite 104. There will be lots of art and craft activities for all ages including face painting\,  caricature drawings\, and a mural painting.   There will also be local authors hosted by Caprichos Books\, yoga classes by Love Evolution Studio and fun photo booth designs\, live music and more fun surprises.  This event is free\; parking is available at the Town of Bel Air parking garage located on E Pennsylvania Ave/S Hickory Ave and metered curbside parking is free on weekends.\n\n \n\n            The Harford Artists' Gallery is open Wednesday through Sundays 10 am to 6 pm.  The Harford Artists' Gallery and Association is a 501(c) 3 organization dedicated to promoting the visual arts in Harford County.  All of the artwork\, pottery\, sculpture and jewelry is created by local artists and the Gallery.  Stop by and support the arts in Harford County.
X-ALT-DESC;FMTTYPE=text/html:&nbsp\;<span style="font-family:arial\,sans-serif"><span style="font-size:11.0pt">Harford Artists&rsquo\; Gallery announces the annual Family Art Festival\, Sept 22nd\, from 2-6 pm at the Harford Artists&rsquo\; Gallery\, 37 North Main St\, suite 104. There will be lots of art and craft activities for all ages including face painting\,&nbsp\; caricature drawings\, and a mural painting.&nbsp\;&nbsp\; There will also be local authors hosted by Caprichos Books\, yoga classes by Love Evolution Studio and fun photo booth designs\, live music and more fun surprises.&nbsp\; This event is free\; parking is available at the</span></span> Town of Bel Air parking garage located on E Pennsylvania Ave/S Hickory Ave and metered curbside parking is free on weekends.<br />\n&nbsp\;<br />\n<span style="font-family:arial\,sans-serif"><span style="font-size:11.0pt">&nbsp\;&nbsp\;&nbsp\;&nbsp\;&nbsp\;&nbsp\;&nbsp\;&nbsp\;&nbsp\;&nbsp\;&nbsp\; The Harford Artists&#39\; Gallery is open Wednesday through Sundays 10 am to 6 pm.&nbsp\; The Harford Artists&#39\; Gallery and Association is a 501(c) 3 organization dedicated to promoting the visual arts in Harford County.&nbsp\; All of the artwork\, pottery\, sculpture and jewelry is created by local artists and the Gallery.&nbsp\; Stop by and support the arts in Harford County.</span></span><br />\n&nbsp\;
LOCATION:Harford Artists' Gallery 37 North Main St Suite 104 410-420-9499
UID:e.2776.8501
SEQUENCE:3
DTSTAMP:20260425T234620Z
URL:https://business.harfordchamber.org/events/details/family-art-festival-day-8501
END:VEVENT

END:VCALENDAR
