BEGIN:VCALENDAR
VERSION:2.0
PRODID:-//ChamberMaster//Event Calendar 2.0//EN
METHOD:PUBLISH
X-PUBLISHED-TTL:P3D
REFRESH-INTERVAL:P3D
CALSCALE:GREGORIAN
BEGIN:VEVENT
DTSTART:20251021T223000Z
DTEND:20251022T000000Z
X-MICROSOFT-CDO-ALLDAYEVENT:FALSE
SUMMARY:Family History Month/A Tour of FamilySearch Labs
DESCRIPTION:Harford County Public Library presents "A Tour of FamilySearch Labs" virtually on October 21 from 6:30 to 8 p.m. This program will help participants explore emerging FamilySearch features that are not yet ready for public release in "Labs." On their site\, you can see what FamilySearch is working on\, try the experiments\, give feedback and help shape the future of the FamilySearch website. Program participants will take a look at what is currently on "Labs\," including how AI can help grow your family tree. The program is facilitated by Dana Chou\, who has volunteered for the past seven years as director of the FamilySearch Center in Baltimore. Her own family lines touch China\, the British Isles and Sweden. Advanced registration is required at https://programs.hcplonline.org/event/14065314.
X-ALT-DESC;FMTTYPE=text/html:<span style="font-family:arial\,sans-serif">Harford County Public Library presents &ldquo\;A Tour of FamilySearch Labs&rdquo\; virtually on October 21 from 6:30 to 8 p.m.</span><span style="color:#1D1D1D"><span style="font-family:arial\,sans-serif"> This program will help participants e</span></span><span style="font-family:arial\,sans-serif">xplore emerging FamilySearch features that are not yet ready for public release in &ldquo\;Labs.&rdquo\; On their site\, you can see what FamilySearch is working on\, try the experiments\, give feedback and help shape the future of the FamilySearch website. Program participants will take a look at what is currently on &ldquo\;Labs\,&rdquo\; including how AI can help grow your family tree. The program is facilitated by Dana Chou\, who has volunteered for the past seven years as director of the FamilySearch Center in Baltimore. Her own family lines touch China\, the British Isles and Sweden. Advanced registration is required at </span><a href="https://programs.hcplonline.org/event/14065314"><span style="font-family:arial\,sans-serif">https://programs.hcplonline.org/event/14065314</span></a><span style="font-family:arial\,sans-serif">. </span><br />\n&nbsp\;
LOCATION:Virtual Program
UID:e.2776.16096
SEQUENCE:3
DTSTAMP:20260421T091827Z
URL:https://business.harfordchamber.org/events/details/family-history-month-a-tour-of-familysearch-labs-16096
END:VEVENT

END:VCALENDAR
