BEGIN:VCALENDAR
VERSION:2.0
PRODID:-//ChamberMaster//Event Calendar 2.0//EN
METHOD:PUBLISH
X-PUBLISHED-TTL:P3D
REFRESH-INTERVAL:P3D
CALSCALE:GREGORIAN
BEGIN:VEVENT
DTSTART:20191116T180000Z
DTEND:20191116T210000Z
X-MICROSOFT-CDO-ALLDAYEVENT:FALSE
SUMMARY:Finding Balance this Winter: Free Health Screenings
DESCRIPTION:Finding Balance this Winter: Free Health Screenings offers something for every age and interest. Families will be entertained and engaged with a variety of health and wellness exhibits\, demonstrations and giveaways.\n\nFREE health screening will include physical therapy evaluations for pain or injury\, blood pressure\, body mass index\, peripheral artery disease\, skin health and more. Don't miss out on this opportunity to be proactive about your health this cold and flu season! Demonstrations & Raffles from:\n\nInnovative Physical Therapy\n\nHarford Sports Performance Center\n\nOrange Theory Fitness\n\nPodiatry Associates\n\nCoreLife\n\nSerenity Salt Spa\n\nTrue Yoga\n\nEast Coast IV \n\nRegister in advance to secure a priority time and receive a virtual gift bag!
X-ALT-DESC;FMTTYPE=text/html:<p>Finding Balance this Winter: Free Health Screenings offers something for every age and interest. Families will be entertained and engaged with a variety of health and wellness exhibits\, demonstrations and giveaways.</p>\n\n<p>FREE health screening will include physical therapy evaluations for pain or injury\, blood pressure\, body mass index\, peripheral artery disease\, skin health and more. Don&#39\;t miss out on this opportunity to be proactive about your health this cold and flu season! Demonstrations &amp\; Raffles from:</p>\n\n<p style="text-align:center"><a href="http://innovativeptcenters.com">Innovative Physical Therapy</a></p>\n\n<p style="text-align:center"><a href="http://harfordsportsonline.com">Harford Sports Performance Center</a></p>\n\n<p style="text-align:center"><a href="http://belairsouth.orangetheoryfitness.com">Orange Theory Fitness</a></p>\n\n<p style="text-align:center"><a href="https://podiatryassociates.org/locations/bel-air/">Podiatry Associates</a></p>\n\n<p style="text-align:center"><a href="http://corelifemd.com">CoreLife</a></p>\n\n<p style="text-align:center"><a href="http://serenitysaltspa.net">Serenity Salt Spa</a></p>\n\n<p style="text-align:center"><a href="http://trueyogaharford.com">True Yoga</a></p>\n\n<p style="text-align:center"><a href="http://eastcoastiv.com">East Coast IV</a>&nbsp\;</p>\n\n<p>Register in advance to secure a priority time and receive a virtual gift bag!</p>\n
LOCATION:Innovative Physical Therapy 121 Industry Lane Forest Hill\, MD 21050
UID:e.2776.10576
SEQUENCE:3
DTSTAMP:20260424T221245Z
URL:https://business.harfordchamber.org/events/details/finding-balance-a-health-wellness-fitness-event-10576
END:VEVENT

END:VCALENDAR
