BEGIN:VCALENDAR
VERSION:2.0
PRODID:-//ChamberMaster//Event Calendar 2.0//EN
METHOD:PUBLISH
X-PUBLISHED-TTL:P3D
REFRESH-INTERVAL:P3D
CALSCALE:GREGORIAN
BEGIN:VEVENT
DTSTART:20190913T160000Z
DTEND:20190914T010000Z
X-MICROSOFT-CDO-ALLDAYEVENT:FALSE
SUMMARY:Fore Our Kids Golf Tournament
DESCRIPTION:Four Our Kids Golf Tournament event includes golfing\, lunch\, dinner\, awards\, and prizes! Golf registration includes:\n\n-  lunch and "Hit the Scooby" contest on the driving range\n\n- beverage cart with soda & water (alcohol available to purchase)\n\n- dinner\n\n- gift bag for each golfer\n\n- opportunity to change a child's life forever! \n\n\n\nYour participation in this event directly benefits children and their families right here in Harford County. "Our mission is to have a direct impact on children and families by taking our programs into the heart of their communities\, providing tools that will ensure positive futures."
X-ALT-DESC;FMTTYPE=text/html:Four Our Kids Golf Tournament event includes golfing\, lunch\, dinner\, awards\, and prizes! Golf registration includes:<br />\n-&nbsp\; lunch and &quot\;Hit the Scooby&quot\; contest on the driving range<br />\n- beverage cart with soda &amp\; water (alcohol available to purchase)<br />\n- dinner<br />\n- gift bag for each golfer<br />\n- opportunity to change a child&#39\;s life forever!&nbsp\;<br />\n<br />\nYour participation in this event directly benefits children and their families right here in Harford County. &quot\;Our mission is to have a direct impact on children and families by taking our programs into the heart of their communities\, providing tools that will ensure positive futures.&quot\;&nbsp\;
LOCATION:The Wetlands Golf Course 740 Gilbert Road Aberdeen\, MD 21001
UID:e.2776.8507
SEQUENCE:3
DTSTAMP:20260426T012151Z
URL:https://business.harfordchamber.org/events/details/fore-our-kids-golf-tournament-8507
END:VEVENT

END:VCALENDAR
