BEGIN:VCALENDAR
VERSION:2.0
PRODID:-//ChamberMaster//Event Calendar 2.0//EN
METHOD:PUBLISH
X-PUBLISHED-TTL:P3D
REFRESH-INTERVAL:P3D
CALSCALE:GREGORIAN
BEGIN:VEVENT
DTSTART:20250413T000000Z
DTEND:20250413T020000Z
X-MICROSOFT-CDO-ALLDAYEVENT:FALSE
SUMMARY:Forever Donna - The Ultimate Donna Summer Tribute starring Rainere Martin
DESCRIPTION:Forever Donna: The Ultimate Donna Summer Tribute Starring Rainere Martin\n\nApril 12 | 8 PM\n\n\n\nCelebrate the timeless legacy of the Queen of Disco\, Donna Summer. Forever Donna celebrates the life and music of the legendary singer. Rainere Martin pays homage to the iconic music and everlasting spirit of Donna Summer. Immerse yourself in the soulful renditions of Donna Summer's greatest hits\, as Rainere Martin takes you on a journey back to the disco era. From "Hot Stuff" to "Last Dance"\, experience the magic of Donna's music like never before.\n\n\n\nAPGFCU Arena\n\nReserved Seating\n\nTickets (including fees): $48 | $43 | $38 | $33\n\n\n\nPurchase before DEC 5\, 2024 and SAVE! No ticketing fees!\n\nTickets: $45 | $40 | $35 | $30\n\n\n\nHarfordEvents.com
X-ALT-DESC;FMTTYPE=text/html:<p style="margin-left:0in\; margin-right:0in"><strong><span style="color:#333333\; font-family:helvetica\,sans-serif\; font-size:10.5pt">Forever Donna: The Ultimate Donna Summer Tribute Starring Rainere Martin</span></strong><br />\n<strong><span style="color:#333333\; font-family:helvetica\,sans-serif\; font-size:10.5pt"><strong><span style="font-family:helvetica\,sans-serif">April 12 | 8 PM</span></strong></span></strong><br />\n<br />\n<span style="color:#333333\; font-family:helvetica\,sans-serif\; font-size:10.5pt">Celebrate the timeless legacy of the Queen of Disco\, Donna Summer. Forever Donna celebrates the life and music of the legendary singer. Rainere Martin pays homage to the iconic music and everlasting spirit of Donna Summer. Immerse yourself in the soulful renditions of Donna Summer&#39\;s greatest hits\, as Rainere Martin takes you on a journey back to the disco era. From &quot\;Hot Stuff&quot\; to &quot\;Last Dance&quot\;\, experience the magic of Donna&#39\;s music like never before.<br />\n<br />\n<strong><span style="font-family:helvetica\,sans-serif">APGFCU Arena</span></strong></span></p>\n\n<p style="margin-left:0in\; margin-right:0in\; text-align:start"><span style="color:#333333\; font-family:helvetica\,sans-serif\; font-size:10.5pt">Reserved Seating<br />\nTickets (including fees): $48 | $43 | $38 | $33<br />\n<br />\n<strong><strong><span style="font-family:helvetica\,sans-serif">Purchase before DEC 5\, 2024 and SAVE! No ticketing fees!</span></strong></strong><br />\nTickets: $45 | $40 |&nbsp\;$35 | $30<br />\n<br />\nHarfordEvents.com</span></p>\n
LOCATION:APGFCU Arena
UID:e.2776.15438
SEQUENCE:3
DTSTAMP:20260421T203947Z
URL:https://business.harfordchamber.org/events/details/forever-donna-the-ultimate-donna-summer-tribute-starring-rainere-martin-15438
END:VEVENT

END:VCALENDAR
