BEGIN:VCALENDAR
VERSION:2.0
PRODID:-//ChamberMaster//Event Calendar 2.0//EN
METHOD:PUBLISH
X-PUBLISHED-TTL:P3D
REFRESH-INTERVAL:P3D
CALSCALE:GREGORIAN
BEGIN:VEVENT
DTSTART:20251025T223000Z
DTEND:20251026T000000Z
X-MICROSOFT-CDO-ALLDAYEVENT:FALSE
SUMMARY:Foul Play in the Stacks/A Murder Mystery Experience
DESCRIPTION:Harford County Public Library hosts "Foul Play in the Stacks" on October 25 from 6:30 to 8 p.m. at the Jarrettsville Library\, 3722 Norrisville Road. Participants\, in grades 9-12 and adults\, assume the role of a character and solve a murder by deciphering clues and examining alibis to find the true culprit. Attendees must call the Jarrettsville Library at 410-692-7887 to register in advance. The program is supported by the Jarrettsville Friends of HCPL. For more information\, visit https://programs.hcplonline.org/event/14133964.
X-ALT-DESC;FMTTYPE=text/html:<span style="font-family:times new roman\,serif"><span style="font-size:14.0pt">Harford County Public Library hosts &ldquo\;Foul Play in the Stacks&rdquo\; on October 25 from 6:30 to 8 p.m. at the Jarrettsville Library\, 3722 Norrisville Road. Participants\, in grades 9-12 and adults\, assume the role of a character and solve a murder by deciphering clues and examining alibis to find the true culprit. Attendees must call the Jarrettsville Library at 410-692-7887 to register in advance. The program is supported by the Jarrettsville Friends of HCPL. For more information\, visit </span></span><a href="https://programs.hcplonline.org/event/14133964"><span style="font-family:times new roman\,serif"><span style="font-size:14.0pt">https://programs.hcplonline.org/event/14133964</span></span></a><span style="font-family:times new roman\,serif"><span style="font-size:14.0pt">. </span></span><br />\n&nbsp\;
LOCATION:Jarrettsville Library 3722 Norrisville Road Jarrettsville
UID:e.2776.16103
SEQUENCE:3
DTSTAMP:20260423T091749Z
URL:https://business.harfordchamber.org/events/details/foul-play-in-the-stacks-a-murder-mystery-experience-16103
END:VEVENT

END:VCALENDAR
