BEGIN:VCALENDAR
VERSION:2.0
PRODID:-//ChamberMaster//Event Calendar 2.0//EN
METHOD:PUBLISH
X-PUBLISHED-TTL:P3D
REFRESH-INTERVAL:P3D
CALSCALE:GREGORIAN
BEGIN:VEVENT
DTSTART:20191005T140000Z
DTEND:20191005T200000Z
X-MICROSOFT-CDO-ALLDAYEVENT:FALSE
SUMMARY:Four Green Fields Harvest Party
DESCRIPTION:Join Four Green Fields for a community appreciation Harvest Party on Saturday\, October 5th! The event is free and open to the public and will include: food\, local artisans\, Harvest Goods & produce\, Holistic health vendors\, games\, giveaways\, free cannabis card signups\, raffles\, bounce house\, and more!
X-ALT-DESC;FMTTYPE=text/html:Join Four Green Fields for a community appreciation Harvest Party on Saturday\, October 5th! The event is free and open to the public and will include: food\, local artisans\, Harvest Goods &amp\; produce\, Holistic health vendors\, games\, giveaways\, free cannabis card signups\, raffles\, bounce house\, and more!
LOCATION:Four Green Fields 3518 Conowingo Road Street\, MD 21154
UID:e.2776.8546
SEQUENCE:3
DTSTAMP:20260425T000533Z
URL:https://business.harfordchamber.org/events/details/four-green-fields-harvest-party-8546
END:VEVENT

END:VCALENDAR
