BEGIN:VCALENDAR
VERSION:2.0
PRODID:-//ChamberMaster//Event Calendar 2.0//EN
METHOD:PUBLISH
X-PUBLISHED-TTL:P3D
REFRESH-INTERVAL:P3D
CALSCALE:GREGORIAN
BEGIN:VEVENT
DTSTART:20210827T200000Z
DTEND:20210827T233000Z
X-MICROSOFT-CDO-ALLDAYEVENT:FALSE
SUMMARY:Fourth Fridays at The Grove
DESCRIPTION:Join us for these special events at The Grove\, Harford County's agribusiness incubator in Street where you can also buy locally-produced meat and dairy products\, delicious desserts\, roasted nuts\, handmade wood products\, and more! Any questions\, contact Robert Andrews at rkandrews@harfordcountymd.gov or 410-638-3059.
X-ALT-DESC;FMTTYPE=text/html:Join us for these special events at The Grove\, Harford County&#39\;s agribusiness incubator in Street where you can also buy locally-produced meat and dairy products\, delicious desserts\, roasted nuts\, handmade wood products\, and more! Any questions\, contact Robert Andrews at rkandrews@harfordcountymd.gov or 410-638-3059.
LOCATION:The Grove at Harford 3519 Conowingo Road Street\, MD 21154
UID:e.2776.12363
SEQUENCE:3
DTSTAMP:20260424T061720Z
URL:https://business.harfordchamber.org/events/details/fourth-fridays-at-the-grove-08-27-2021-12363
END:VEVENT

END:VCALENDAR
