BEGIN:VCALENDAR
VERSION:2.0
PRODID:-//ChamberMaster//Event Calendar 2.0//EN
METHOD:PUBLISH
X-PUBLISHED-TTL:P3D
REFRESH-INTERVAL:P3D
CALSCALE:GREGORIAN
BEGIN:VEVENT
DTSTART:20191111T160000Z
DTEND:20191112T045500Z
X-MICROSOFT-CDO-ALLDAYEVENT:FALSE
SUMMARY:Free Meal for Veterans at The Greene Turtle\, Bel Air!
DESCRIPTION:The Greene Turtle\, Bel Air at the Harford Mall will be providing Free Meals to Veterans on Monday\, 11/11 from open (11am) - close (12:00am)! \n\n\n\nCheck out our Facebook event! https://www.facebook.com/events/1481906035298093/\n\n\n\nDetails: Free meal up to $14 with valid military ID.  Dine in only. Promotion will run from open (11am) -close (12am) on Monday\, 11/11.
X-ALT-DESC;FMTTYPE=text/html:The Greene Turtle\, Bel Air at the Harford Mall will be providing Free Meals to Veterans on Monday\, 11/11 from open (11am) - close (12:00am)!&nbsp\;<br />\n<br />\nCheck out our Facebook event!&nbsp\;<a href="https://www.facebook.com/events/1481906035298093/">https://www.facebook.com/events/1481906035298093/</a><br />\n<br />\n<span style="background-color:rgb(255\, 255\, 255)\; color:rgb(29\, 33\, 41)\; font-family:inherit\; font-size:14px">Details: Free meal up to $14 with valid military ID.&nbsp\; Dine in only. Promotion will run from open (11am) -close (12am) on Monday\, 11/11. </span>
LOCATION:The Greene Turtle\, Bel Air at the Harford Mall 696 Bel Air Road\, Bel Air\, MD 21014 The Greene Turtle is located on the backside of the mall by Sears.
UID:e.2776.10586
SEQUENCE:3
DTSTAMP:20260424T221113Z
URL:https://business.harfordchamber.org/events/details/free-meal-for-veterans-at-the-greene-turtle-bel-air-10586
END:VEVENT

END:VCALENDAR
