BEGIN:VCALENDAR
VERSION:2.0
PRODID:-//ChamberMaster//Event Calendar 2.0//EN
METHOD:PUBLISH
X-PUBLISHED-TTL:P3D
REFRESH-INTERVAL:P3D
CALSCALE:GREGORIAN
BEGIN:VEVENT
DTSTART:20250426T120000Z
DTEND:20250426T153000Z
X-MICROSOFT-CDO-ALLDAYEVENT:FALSE
SUMMARY:GAIN of Harford County Caregiver's Conference
DESCRIPTION:GAIN of Harford County Caregiver's Conference (Harford County's Geriatric Assistance Information Network)\n\nAgenda:\n\n8 am to 9:15 am:  Breakfast/Vendors Open\n\n8 am to 10 am:  Health Screenings\n\n9:15 am to 9:30 am:  Welcome & Acknowledgements\n\n9:30 am to 10:00 am:  Harford County Senior Data (presented by Harford County Health Department and Upper \n\n                                                                                 Chesapeake Community Health)\n\n10 am to 11 am:  Taboo Topics:  Helping Caregivers Discuss Tough Subjects with their Loved Ones\n\n                                                    presented by Stephanie Goldstein (Jenerations Health Education)\n\n                                                    sponsored by Visiting Angels of Harford & Cecil Counties\n\n11 am to 11:25 am:  Vendor Visits/Break\n\n11:25 am to 11:30 am:  Raffle Winner\n\nContact Info - To Register:\n\n1-800-515-0044\n\nChelsea Bridges (cbridges@townsquare.net)\n\nNikki Gorski (ngorski@alz.org
X-ALT-DESC;FMTTYPE=text/html:GAIN of Harford County Caregiver&#39\;s Conference (Harford County&#39\;s Geriatric Assistance Information Network)<br />\nAgenda:<br />\n8 am to 9:15 am:&nbsp\; Breakfast/Vendors Open<br />\n8 am to 10 am:&nbsp\; Health Screenings<br />\n9:15 am to 9:30 am:&nbsp\; Welcome &amp\; Acknowledgements<br />\n9:30 am to 10:00 am:&nbsp\; Harford County Senior Data (presented by Harford County Health Department and Upper&nbsp\;<br />\n&nbsp\; &nbsp\; &nbsp\; &nbsp\; &nbsp\; &nbsp\; &nbsp\; &nbsp\; &nbsp\; &nbsp\; &nbsp\; &nbsp\; &nbsp\; &nbsp\; &nbsp\; &nbsp\; &nbsp\; &nbsp\; &nbsp\; &nbsp\; &nbsp\; &nbsp\; &nbsp\; &nbsp\; &nbsp\; &nbsp\; &nbsp\; &nbsp\; &nbsp\; &nbsp\; &nbsp\; &nbsp\; &nbsp\; &nbsp\; &nbsp\; &nbsp\; &nbsp\; &nbsp\; &nbsp\; &nbsp\; &nbsp\;Chesapeake Community Health)<br />\n10 am to 11 am:&nbsp\; Taboo Topics:&nbsp\; Helping Caregivers Discuss Tough Subjects with their Loved Ones<br />\n&nbsp\; &nbsp\; &nbsp\; &nbsp\; &nbsp\; &nbsp\; &nbsp\; &nbsp\; &nbsp\; &nbsp\; &nbsp\; &nbsp\; &nbsp\; &nbsp\; &nbsp\; &nbsp\; &nbsp\; &nbsp\; &nbsp\; &nbsp\; &nbsp\; &nbsp\; &nbsp\; &nbsp\; &nbsp\; &nbsp\; presented by Stephanie Goldstein (Jenerations Health Education)<br />\n&nbsp\; &nbsp\; &nbsp\; &nbsp\; &nbsp\; &nbsp\; &nbsp\; &nbsp\; &nbsp\; &nbsp\; &nbsp\; &nbsp\; &nbsp\; &nbsp\; &nbsp\; &nbsp\; &nbsp\; &nbsp\; &nbsp\; &nbsp\; &nbsp\; &nbsp\; &nbsp\; &nbsp\; &nbsp\; &nbsp\; sponsored by Visiting Angels of Harford &amp\; Cecil Counties<br />\n11 am to 11:25 am:&nbsp\; Vendor Visits/Break<br />\n11:25 am to 11:30 am:&nbsp\; Raffle Winner<br />\nContact Info - To Register:<br />\n1-800-515-0044<br />\nChelsea Bridges (cbridges@townsquare.net)<br />\nNikki Gorski (ngorski@alz.org
LOCATION:McFaul Activity Conference 525 West MacPhail Rd. Bel Air\, MD 21014
UID:e.2776.15697
SEQUENCE:3
DTSTAMP:20260421T204037Z
URL:https://business.harfordchamber.org/events/details/gain-of-harford-county-caregiver-s-conference-15697
END:VEVENT

END:VCALENDAR
