BEGIN:VCALENDAR
VERSION:2.0
PRODID:-//ChamberMaster//Event Calendar 2.0//EN
METHOD:PUBLISH
X-PUBLISHED-TTL:P3D
REFRESH-INTERVAL:P3D
CALSCALE:GREGORIAN
BEGIN:VEVENT
DTSTART:20251016T180000Z
DTEND:20251016T200000Z
X-MICROSOFT-CDO-ALLDAYEVENT:FALSE
SUMMARY:Gear Up for Halloween
DESCRIPTION:Harford County Public Library invites children and teens to "Gear Up for Halloween" on October 16 from 2 to 4 p.m. at the Darlington Library\, 3535 Conowingo Road in Street. Get into the spooky spirit by making decorations\, wearing costumes and parading around the grounds\, including a visit to the Harford County Ag Center. The program is sponsored by the Darlington Friends of HCPL. For more information\, visit https://programs.hcplonline.org/event/13937801.
X-ALT-DESC;FMTTYPE=text/html:<span style="font-family:times new roman\,serif"><span style="font-size:14.0pt">Harford County Public Library invites children and teens to &ldquo\;Gear Up for Halloween&rdquo\; on October 16 from 2 to 4 p.m. at the Darlington Library\, 3535 Conowingo Road in Street. Get into the spooky spirit by making decorations\, wearing costumes and parading around the grounds\, including a visit to the Harford County Ag Center. The program is sponsored by the Darlington Friends of HCPL. For more information\, visit </span></span><a href="https://programs.hcplonline.org/event/13937801"><span style="font-family:times new roman\,serif"><span style="font-size:14.0pt">https://programs.hcplonline.org/event/13937801</span></span></a><span style="font-family:times new roman\,serif"><span style="font-size:14.0pt">. </span></span><br />\n&nbsp\;<br />\n&nbsp\;
LOCATION:Darlington Library 3535 Conowingo Road\, Street
UID:e.2776.16081
SEQUENCE:3
DTSTAMP:20260423T091320Z
URL:https://business.harfordchamber.org/events/details/gear-up-for-halloween-16081
END:VEVENT

END:VCALENDAR
