BEGIN:VCALENDAR
VERSION:2.0
PRODID:-//ChamberMaster//Event Calendar 2.0//EN
METHOD:PUBLISH
X-PUBLISHED-TTL:P3D
REFRESH-INTERVAL:P3D
CALSCALE:GREGORIAN
BEGIN:VEVENT
DTSTART:20251005T150000Z
DTEND:20251005T163000Z
X-MICROSOFT-CDO-ALLDAYEVENT:FALSE
SUMMARY:Goat Yoga At HSHC
DESCRIPTION:Curious about yoga but a little intimidated? Not sure if it's your thing?\n\n\n\nWhat if we added BABY GOATS? Yep\, you read that right. Baby goats. Yoga. Laughter. Cuteness overload.\n\n\n\nJoin Jennifer L. of BreakAway Yoga on Sunday\, October 5th from 11AM-12:30PM right here at the shelter for a joyful\, all-levels 60-minute Vinyasa yoga class\, followed by 30 extra minutes to hang out with the goats\, snap photos\, and enjoy a complimentary beverage (included with your ticket).\n\n\n\nExpect playful poses\, happy vibes\, and maybe even a goat hopping on your back in downward dog. And the best part? A portion of each ticket sale goes directly to the Humane Society of Harford County to support their mission of caring for animals and helping them find forever homes.\n\n\n\nTickets: $40 (plus tax/service fees)\n\n\n\nIncludes:\n\n60-minute all-levels yoga class\n\n30-minute goat "meet & greet\," photo ops & snuggles\n\nOne beverage of your choice (alcoholic or non-alcoholic   21+ for alcohol)\n\n\n\nNeed-to-Know Details:\n\nKid-friendly! Children ages 6+ are welcome.\n\nPlease arrive 15 minutes before class to check in and get settled.\n\n\n\nBYO-mat (or rent one for $5 cash/Venmo accepted). Beach towels/blankets work too!\n\nWe promise: zero pressure\, all fun plus you'll be supporting an amazing cause.
X-ALT-DESC;FMTTYPE=text/html:Curious about yoga but a little intimidated? Not sure if it&rsquo\;s your thing?<br />\n<br />\nWhat if we added&hellip\;BABY GOATS? Yep\, you read that right. Baby goats. Yoga. Laughter. Cuteness overload.<br />\n<br />\nJoin Jennifer L. of BreakAway Yoga on Sunday\, October 5th from 11AM-12:30PM right here at the shelter for a joyful\, all-levels 60-minute Vinyasa yoga class\, followed by 30 extra minutes to hang out with the goats\, snap photos\, and enjoy a complimentary beverage (included with your ticket).<br />\n<br />\nExpect playful poses\, happy vibes\, and maybe even a goat hopping on your back in downward dog. And the best part? A portion of each ticket sale goes directly to the Humane Society of Harford County to support their mission of caring for animals and helping them find forever homes.<br />\n<br />\nTickets: $40 (plus tax/service fees)<br />\n<br />\nIncludes:<br />\n60-minute all-levels yoga class<br />\n30-minute goat &ldquo\;meet &amp\; greet\,&rdquo\; photo ops &amp\; snuggles<br />\nOne beverage of your choice (alcoholic or non-alcoholic &mdash\; 21+ for alcohol)<br />\n<br />\nNeed-to-Know Details:<br />\nKid-friendly! Children ages 6+ are welcome.<br />\nPlease arrive 15 minutes before class to check in and get settled.<br />\n<br />\nBYO-mat (or rent one for $5&mdash\;cash/Venmo accepted). Beach towels/blankets work too!<br />\nWe promise: zero pressure\, all fun&mdash\;plus you&rsquo\;ll be supporting an amazing cause.
LOCATION:2208 Connolly Rd.\, Fallston MD 21047
UID:e.2776.16076
SEQUENCE:3
DTSTAMP:20260423T091633Z
URL:https://business.harfordchamber.org/events/details/goat-yoga-at-hshc-16076
END:VEVENT

END:VCALENDAR
