BEGIN:VCALENDAR
VERSION:2.0
PRODID:-//ChamberMaster//Event Calendar 2.0//EN
METHOD:PUBLISH
X-PUBLISHED-TTL:P3D
REFRESH-INTERVAL:P3D
CALSCALE:GREGORIAN
BEGIN:VEVENT
DTSTART:20190801T160000Z
DTEND:20190801T170000Z
X-MICROSOFT-CDO-ALLDAYEVENT:FALSE
SUMMARY:Grand Opening Ceremony
DESCRIPTION:Join us for our grand opening ribbon cutting ceremony.  Formerly a warehouse\, our new fitness studio for personal training is brand new in Forest Hill.  There will be refreshments\, prizes and goodies.
X-ALT-DESC;FMTTYPE=text/html:Join us for our grand opening ribbon cutting ceremony.&nbsp\; Formerly a warehouse\, our new fitness studio for personal training is brand new in Forest Hill.&nbsp\; There will be refreshments\, prizes and goodies.&nbsp\;&nbsp\;
LOCATION:Forest Hill Fit Body Boot Camp 2218 Commerce Rd. Unit 1 Forest Hill\, MD 21050
UID:e.2776.8454
SEQUENCE:3
DTSTAMP:20260426T030309Z
URL:https://business.harfordchamber.org/events/details/grand-opening-ceremony-8454
END:VEVENT

END:VCALENDAR
