BEGIN:VCALENDAR
VERSION:2.0
PRODID:-//ChamberMaster//Event Calendar 2.0//EN
METHOD:PUBLISH
X-PUBLISHED-TTL:P3D
REFRESH-INTERVAL:P3D
CALSCALE:GREGORIAN
BEGIN:VEVENT
DTSTART:20250503T160000Z
DTEND:20250503T170000Z
X-MICROSOFT-CDO-ALLDAYEVENT:FALSE
SUMMARY:Grand Opening/ Ribbon Cutting for Advanced Chiropractic and Wellness
DESCRIPTION:Join us in celebrating the grand opening of Advanced Chiropractic and Wellness! We hope you will join us for our grand opening and press event as we celebrate this momentous occasion with our partners\, advocating for\, supporting\, and celebrating! \n	For more information and about Advanced Chiropractic and Wellness mission\, visit chiropracticwellnessmd.com
X-ALT-DESC;FMTTYPE=text/html:<ul>\n	<li><span style="font-family:arial\;"><span style="font-size:14px\;">Join us in celebrating the grand opening of <span font-weight:="" helvetica="" segoe="" style="color: rgb(36\, 36\, 36)\; font-family: " ui="" web="" west="" white-space-collapse:="">Advanced Chiropractic and Wellness!</span> We hope you will join us for our grand opening and press event as we celebrate this momentous occasion with our partners\, advocating for\, supporting\, and celebrating!&nbsp\;</span></span></li>\n	<li><span style="font-family:arial\;"><span style="font-size:14px\;">For more information and about&nbsp\;<span font-size:="" font-weight:="" helvetica="" segoe="" style="color: rgb(36\, 36\, 36)\; font-family: " ui="" web="" west="" white-space-collapse:="">Advanced Chiropractic and Wellness mission\, visit </span><u><strong><a href="https://chiropracticwellnessmd.com/">chiropracticwellnessmd.co</a><a href="http://chiropracticwellnessmd.com/">m</a></strong></u></span></span></li>\n</ul>\n
LOCATION:323 S Main St. in Bel Air
UID:e.2776.15718
SEQUENCE:3
DTSTAMP:20260421T184126Z
URL:https://business.harfordchamber.org/events/details/grand-opening-ribbon-cutting-for-advanced-chiropractic-and-wellness-15718
END:VEVENT

END:VCALENDAR
