BEGIN:VCALENDAR
VERSION:2.0
PRODID:-//ChamberMaster//Event Calendar 2.0//EN
METHOD:PUBLISH
X-PUBLISHED-TTL:P3D
REFRESH-INTERVAL:P3D
CALSCALE:GREGORIAN
BEGIN:VEVENT
DTSTART:20250711T200000Z
DTEND:20250711T210000Z
X-MICROSOFT-CDO-ALLDAYEVENT:FALSE
SUMMARY:Grand Opening/ Ribbon Cutting for D.I.Y. Wellness
DESCRIPTION:Join us in celebrating the grand opening of D.I.Y. Wellness in downtown Havre De Grace! We hope you will join us for our grand opening and press event as we celebrate this momentous occasion with our partners\, advocating for\, supporting\, and celebrating! \n	For more information on D.I.Y. Wellness\, the mission\, and history\, please visit Home | DIY Wellness\, Discovering the Individual in You
X-ALT-DESC;FMTTYPE=text/html:<ul>\n	<li>Join us in celebrating the grand opening of <span data-olk-copy-source="MessageBody">D.I.Y. Wellness</span><!--EndFragment-->&nbsp\;in downtown Havre De Grace!&nbsp\;We hope you will join us for our grand opening and press event as we celebrate this momentous occasion with our partners\, advocating for\, supporting\, and celebrating!&nbsp\;</li>\n	<li>For more information on <em><span data-olk-copy-source="MessageBody">D.I.Y. Wellness</span></em><!--EndFragment-->\, the mission\, and history\, please&nbsp\;visit&nbsp\;<a href="https://shop.diywellness.com/">Home | DIY Wellness\, Discovering the Individual in You</a></li>\n</ul>\n
LOCATION:910 Revolution St.\, Havre de Grace\, MD 21078
UID:e.2776.15755
SEQUENCE:3
DTSTAMP:20260421T151617Z
URL:https://business.harfordchamber.org/events/details/grand-opening-ribbon-cutting-for-d-i-y-wellness-15755
END:VEVENT

END:VCALENDAR
