BEGIN:VCALENDAR
VERSION:2.0
PRODID:-//ChamberMaster//Event Calendar 2.0//EN
METHOD:PUBLISH
X-PUBLISHED-TTL:P3D
REFRESH-INTERVAL:P3D
CALSCALE:GREGORIAN
BEGIN:VEVENT
DTSTART:20251017T190000Z
DTEND:20251017T203000Z
X-MICROSOFT-CDO-ALLDAYEVENT:FALSE
SUMMARY:Grand Opening/ Ribbon Cutting for Divine Sweets & Gifts
DESCRIPTION:Join us in celebrating the grand opening of Divine Sweets & Gifts! We hope you will join us for our grand opening and press event as we celebrate this momentous occasion with our partners\, advocating for\, supporting\, and celebrating! \n	For more information on Divine Sweets & Gifts\, the mission\, and history\, please visit (20+) Facebook
X-ALT-DESC;FMTTYPE=text/html:<ul>\n	<li>Join us in celebrating the grand opening of <!--StartFragment--><!--StartFragment--><strong><span data-olk-copy-source="MessageBody" style="color: black\; font-size: 12pt\; font-family: Aptos\, Aptos_EmbeddedFont\, Aptos_MSFontService\, Calibri\, Helvetica\, sans-serif\, serif\, EmojiFont\; margin: 0px\;">Divine Sweets &amp\; Gifts</span></strong><!--EndFragment--><!--EndFragment--><span style="font-size:14px\;">!</span> We hope you will join us for our grand opening and press event as we celebrate this momentous occasion with our partners\, advocating for\, supporting\, and celebrating!&nbsp\;</li>\n	<li>For more information on <!--StartFragment--><span data-olk-copy-source="MessageBody" style="color: black\; font-size: 12pt\; font-family: Aptos\, Aptos_EmbeddedFont\, Aptos_MSFontService\, Calibri\, Helvetica\, sans-serif\, serif\, EmojiFont\; margin: 0px\;">Divine Sweets &amp\; Gifts</span><!--EndFragment--><!--EndFragment-->\, the mission\, and history\, please&nbsp\;visit&nbsp\;<a href="https://www.facebook.com/profile.php?id=100063705455675&amp\;mibextid=wwXIfr&amp\;rdid=UjoovlgxBmfGShIU&amp\;share_url=https%3A%2F%2Fwww.facebook.com%2Fshare%2F1G8L4JCVnF%2F%3Fmibextid%3DwwXIfr#">(20+) Facebook</a></li>\n</ul>\n
LOCATION:134 N. Tollgate Rd.\, Bel Air\, MD 21014
UID:e.2776.16099
SEQUENCE:3
DTSTAMP:20260423T130812Z
URL:https://business.harfordchamber.org/events/details/grand-opening-ribbon-cutting-for-divine-sweets-gifts-16099
END:VEVENT

END:VCALENDAR
