BEGIN:VCALENDAR
VERSION:2.0
PRODID:-//ChamberMaster//Event Calendar 2.0//EN
METHOD:PUBLISH
X-PUBLISHED-TTL:P3D
REFRESH-INTERVAL:P3D
CALSCALE:GREGORIAN
BEGIN:VEVENT
DTSTART:20251006T140000Z
DTEND:20251006T143000Z
X-MICROSOFT-CDO-ALLDAYEVENT:FALSE
SUMMARY:Grand Opening/ Ribbon Cutting for Harford Day School New Kindergarten Playground
DESCRIPTION:Join us in celebrating the grand opening of Harford Day School's New Kindergarten Playground! We hope you will join us for our grand opening and press event as we celebrate this momentous occasion with our partners\, advocating for\, supporting\, and celebrating! \n	For more information on Harford Day School\, the mission\, and history\, please visit Harford Day School | PreK to Grade 8 in Bel Air Harford County MD
X-ALT-DESC;FMTTYPE=text/html:<ul>\n	<li>Join us in celebrating the grand opening of&nbsp\;<span style="color: rgb(36\, 36\, 36)\; font-family: &quot\;Segoe UI&quot\;\, &quot\;Segoe UI Web (West European)&quot\;\, -apple-system\, BlinkMacSystemFont\, Roboto\, &quot\;Helvetica Neue&quot\;\, sans-serif\; font-size: 16px\; font-weight: 600\; white-space-collapse: preserve\;">Harford Day School&#39\;s New Kindergarten Playground</span><span style="font-size:14px\;">!</span> We hope you will join us for our grand opening and press event as we celebrate this momentous occasion with our partners\, advocating for\, supporting\, and celebrating!&nbsp\;</li>\n	<li>For more information on <span style="font-size: 12px\;"><i>Harford Day School</i></span>\, the mission\, and history\, please&nbsp\;visit&nbsp\;<a href="https://www.harfordday.org/">Harford Day School | PreK to Grade 8 in Bel Air Harford County MD</a></li>\n</ul>\n
LOCATION:715 Moores Mill Rd.\, Bel Air\, MD 21014
UID:e.2776.16101
SEQUENCE:3
DTSTAMP:20260423T091936Z
URL:https://business.harfordchamber.org/events/details/grand-opening-ribbon-cutting-for-harford-day-school-new-kindergarten-playground-16101
END:VEVENT

END:VCALENDAR
