BEGIN:VCALENDAR
VERSION:2.0
PRODID:-//ChamberMaster//Event Calendar 2.0//EN
METHOD:PUBLISH
X-PUBLISHED-TTL:P3D
REFRESH-INTERVAL:P3D
CALSCALE:GREGORIAN
BEGIN:VEVENT
DTSTART:20260501T150000Z
DTEND:20260501T160000Z
X-MICROSOFT-CDO-ALLDAYEVENT:FALSE
SUMMARY:Grand Opening/ Ribbon Cutting for Pirates Cove Family Fun Center
DESCRIPTION:Join us in celebrating the grand opening of Pirates Cove Family Fun Center in Havre de Grace\, MD! We hope you will join us for our grand opening and press event as we celebrate this momentous occasion with our partners\, advocating for\, supporting\, and celebrating! \n	For more information on Pirates Cove Family Fun Center\, the mission\, and history\, please visit Pirate's Cove Golf & Arcade
X-ALT-DESC;FMTTYPE=text/html:<ul>\n	<li><span style="font-size:14px\;">Join us in celebrating the grand opening of</span><strong><span style="font-size:14px\;"> <!--StartFragment--></span><!--StartFragment--><span style="font-size:14px\;"><span data-olk-copy-source="MessageBody">Pirates Cove Family Fun Center</span></span></strong><!--EndFragment--><span style="font-size:14px\;"><span style="color: rgb(66\, 66\, 66)\; font-family: &quot\;Segoe UI&quot\;\, &quot\;Segoe UI Web (West European)&quot\;\, &quot\;Segoe UI&quot\;\, -apple-system\, BlinkMacSystemFont\, Roboto\, &quot\;Helvetica Neue&quot\;\, sans-serif\; font-weight: 600\;">&nbsp\;</span><span style="color: rgb(0\, 0\, 0)\; font-family: Aptos\, Aptos_EmbeddedFont\, Aptos_MSFontService\, Calibri\, Helvetica\, sans-serif\;">in </span></span>Havre de Grace\, MD<span style="font-size:14px\;">! We hope you will join us for our grand opening and press event as we celebrate this momentous occasion with our partners\, advocating for\, supporting\, and celebrating!&nbsp\;</span></li>\n	<li><span style="font-size:14px\;">For more information on <!--StartFragment--></span><!--StartFragment--><span style="font-size:14px\;"><strong><span data-olk-copy-source="MessageBody">Pirates Cove Family Fun Center</span></strong></span><!--EndFragment--><span style="font-size:14px\;">\, the mission\, and history\, please&nbsp\;visit<u>&nbsp\;</u></span><u><a href="https://playatthecove.com/">Pirate&rsquo\;s Cove Golf &amp\; Arcade</a></u></li>\n</ul>\n
LOCATION:2121 Pulaski Highway\, Havre de Grace\, MD 21078
UID:e.2776.16238
SEQUENCE:3
DTSTAMP:20260423T205123Z
URL:https://business.harfordchamber.org/events/details/grand-opening-ribbon-cutting-for-pirates-cove-family-fun-center-16238
END:VEVENT

END:VCALENDAR
