BEGIN:VCALENDAR
VERSION:2.0
PRODID:-//ChamberMaster//Event Calendar 2.0//EN
METHOD:PUBLISH
X-PUBLISHED-TTL:P3D
REFRESH-INTERVAL:P3D
CALSCALE:GREGORIAN
BEGIN:VEVENT
DTSTART:20250701T180000Z
DTEND:20250701T190000Z
X-MICROSOFT-CDO-ALLDAYEVENT:FALSE
SUMMARY:Grand Opening/ Ribbon Cutting for Z Vault
DESCRIPTION:Join us in celebrating the grand opening of Z Vault in downtown Bel Air! We hope you will join us for our grand opening and press event as we celebrate this momentous occasion with our partners\, advocating for\, supporting\, and celebrating! \n	For more information on Z Vault\, the mission\, and history\, please visit Z Vault
X-ALT-DESC;FMTTYPE=text/html:<ul>\n	<li>Join us in celebrating the grand opening of <span style="font-size:14px\;">Z Vault</span> in downtown Bel Air!&nbsp\;We hope you will join us for our grand opening and press event as we celebrate this momentous occasion with our partners\, advocating for\, supporting\, and celebrating!&nbsp\;</li>\n	<li>For more information on <i>Z Vault</i>\, the mission\, and history\, please&nbsp\;visit&nbsp\;<a href="https://www.zvaultbar.com/">Z Vault</a></li>\n</ul>\n
LOCATION:201 S. Main Street\, Bel Air\, MD 21014
UID:e.2776.15749
SEQUENCE:3
DTSTAMP:20260421T152736Z
URL:https://business.harfordchamber.org/events/details/grand-opening-ribbon-cutting-for-z-vault-15749
END:VEVENT

END:VCALENDAR
