BEGIN:VCALENDAR
VERSION:2.0
PRODID:-//ChamberMaster//Event Calendar 2.0//EN
METHOD:PUBLISH
X-PUBLISHED-TTL:P3D
REFRESH-INTERVAL:P3D
CALSCALE:GREGORIAN
BEGIN:VEVENT
DTSTART:20250516T160000Z
DTEND:20250516T170000Z
X-MICROSOFT-CDO-ALLDAYEVENT:FALSE
SUMMARY:Grand Opening/ Ribbon Cutting for Zigglebee
DESCRIPTION:Join us in celebrating the grand opening of Zigglebee in Aberdeen! We hope you will join us for our grand opening and press event as we celebrate this momentous occasion with our partners\, advocating for\, supporting\, and celebrating! \n	For more information on Zigglebee\, the mission\, and history\, please visit Zigglebee  - The Perfect Blend of Art and Tech | InfoMate Wristband
X-ALT-DESC;FMTTYPE=text/html:<ul>\n	<li>Join us in celebrating the grand opening of <span style="font-size:14px\;"><span style="color: rgb(0\, 0\, 0)\; font-family: Aptos\, Aptos_EmbeddedFont\, Aptos_MSFontService\, Calibri\, Helvetica\, sans-serif\;"><span style="font-size:16px\;"><strong>Zigglebee</strong></span> in Aberdeen</span>!</span> We hope you will join us for our grand opening and press event as we celebrate this momentous occasion with our partners\, advocating for\, supporting\, and celebrating!&nbsp\;</li>\n	<li>For more information on <em><span style="font-size: 14px\;"><span style="color: rgb(0\, 0\, 0)\; font-family: Aptos\, Aptos_EmbeddedFont\, Aptos_MSFontService\, Calibri\, Helvetica\, sans-serif\;">Zigglebee</span></span></em>\, the mission\, and history\, please&nbsp\;visit&nbsp\;<strong><a href="https://zigglebee.com/">Zigglebee&reg\; - The Perfect Blend of Art and Tech | InfoMate Wristband</a></strong></li>\n</ul>\n
LOCATION:1040 Hardees Drive | Suite A Aberdeen\, MD 21001
UID:e.2776.15723
SEQUENCE:3
DTSTAMP:20260421T184126Z
URL:https://business.harfordchamber.org/events/details/grand-opening-ribbon-cutting-for-zigglebee-15723
END:VEVENT

END:VCALENDAR
