BEGIN:VCALENDAR
VERSION:2.0
PRODID:-//ChamberMaster//Event Calendar 2.0//EN
METHOD:PUBLISH
X-PUBLISHED-TTL:P3D
REFRESH-INTERVAL:P3D
CALSCALE:GREGORIAN
BEGIN:VEVENT
DTSTART:20191018T170000Z
DTEND:20191018T190000Z
X-MICROSOFT-CDO-ALLDAYEVENT:FALSE
SUMMARY:Grand Opening Ribbon Cuttting for B+M Cabinetry Plus
DESCRIPTION:Please join B+M Clean as they expand their business to B+M Cabinetry Plus.\n\nOn Friday 10/18 at 1:00 we will open our doors to our new showroom and design center. Come out to join in the official Grand Opening Ribbon Cutting and celebration! \nWe are featuring the full line of Fabuwood Cabinetry\, counter surfaces\, fixtures and hardware.  It is our goal to provide a unique design experience for contractors and customers.  We are excited to assist you in creating beautiful spaces with a personal touch.
X-ALT-DESC;FMTTYPE=text/html:Please join B+M Clean as they expand their business to B+M Cabinetry Plus.<br />\nOn Friday 10/18 at 1:00 we will open our doors to our new showroom and design center. Come out to join in the official Grand Opening Ribbon Cutting and celebration!&nbsp\;\n<p>We are featuring the full line of Fabuwood Cabinetry\, counter surfaces\, fixtures and hardware.&nbsp\; It is our goal to provide a unique design experience for contractors and customers.&nbsp\; We are excited to assist you in creating beautiful spaces with a personal touch.</p>\n
LOCATION:1609 Belair Road\, Unit 3 Fallston\, MD 21047
UID:e.2776.9573
SEQUENCE:3
DTSTAMP:20260425T000828Z
URL:https://business.harfordchamber.org/events/details/grand-opening-ribbon-cuttting-for-b-m-cabinetry-plus-9573
END:VEVENT

END:VCALENDAR
