BEGIN:VCALENDAR
VERSION:2.0
PRODID:-//ChamberMaster//Event Calendar 2.0//EN
METHOD:PUBLISH
X-PUBLISHED-TTL:P3D
REFRESH-INTERVAL:P3D
CALSCALE:GREGORIAN
BEGIN:VEVENT
DTSTART:20250605T200000Z
DTEND:20250605T223000Z
X-MICROSOFT-CDO-ALLDAYEVENT:FALSE
SUMMARY:Grand Re- Opening/ Ribbon Cutting for Home2Suites
DESCRIPTION:Join us in celebrating the grand re- opening of Home2Suites by Hilton hotel at their Aberdeen location! We hope you will join us for their grand re-opening and press event as we celebrate this momentous occasion with our partners\, advocating for\, supporting\, and celebrating! \n	For more information on Home2Suites\, the mission\, and history\, please visit Home2 Suites by Hilton Baltimore / Aberdeen\, MD - ReservationDesk.com
X-ALT-DESC;FMTTYPE=text/html:<ul>\n	<li>Join us in celebrating the grand re- opening of <span style="font-size:14px\;"><span style="color: rgb(0\, 0\, 0)\; font-family: Aptos\, Aptos_EmbeddedFont\, Aptos_MSFontService\, Calibri\, Helvetica\, sans-serif\;"><span style="font-size:16px\;"><strong>Home2Suites<span style="font-size:14px\;"> </span></strong><span style="font-size:14px\;">by&nbsp\;</span></span></span></span><!--StartFragment--><span data-olk-copy-source="MessageBody">Hilton hotel at their Aberdeen location</span><span style="font-size:14px\;">!</span> We hope you will join us for their grand re-opening and press event as we celebrate this momentous occasion with our partners\, advocating for\, supporting\, and celebrating!&nbsp\;</li>\n	<li>For more information on <span style="font-size:16px\;"><strong><span style="color: rgb(0\, 0\, 0)\; font-family: Aptos\, Aptos_EmbeddedFont\, Aptos_MSFontService\, Calibri\, Helvetica\, sans-serif\;">Home2Suites</span></strong></span>\, the mission\, and history\, please&nbsp\;visit&nbsp\;<a href="https://www.reservationdesk.com/hotel/6130c98/home2-suites-by-hilton-baltimore-aberdeen-aberdeen-md/?cid=sem::TPRD::BA::Reservation%20Desk%20%3E%20US%20%3E%20Northeast%20%3E%20Maryland::US%20%3E%20Maryland%20%3E%20Aberdeen%20%3E%20Home2%20Suites%20by%20Hilton%20Baltimore%20%2F%20Aberdeen\,%20MD%20%3E%20did-6130c98%20%3E%20101911704::home2%20suites%20aberdeen::e&amp\;creative=75729027063047&amp\;device=c&amp\;utm_source=bing&amp\;utm_medium=cpc&amp\;utm_term=home2%20suites%20aberdeen&amp\;utm_campaign=Reservation%20Desk%20%3E%20US%20%3E%20Northeast%20%3E%20Maryland&amp\;iv_=__iv_m_e_c_75729027063047_k_75729074679975_w_kwd-75729074679975:loc-4101_g_1211662116241124_n_o_e__h_92964_ii_51750_p_2_b_be_d_c_vi__&amp\;msclkid=cb70f7653d86137142a09f4e02b87fc2">Home2 Suites by Hilton Baltimore / Aberdeen\, MD - ReservationDesk.com</a></li>\n</ul>\n
LOCATION:20 Newton Rd.\, Aberdeen\, MD 21001
UID:e.2776.15727
SEQUENCE:3
DTSTAMP:20260421T170030Z
URL:https://business.harfordchamber.org/events/details/grand-re-opening-ribbon-cutting-for-home2suites-15727
END:VEVENT

END:VCALENDAR
