BEGIN:VCALENDAR
VERSION:2.0
PRODID:-//ChamberMaster//Event Calendar 2.0//EN
METHOD:PUBLISH
X-PUBLISHED-TTL:P3D
REFRESH-INTERVAL:P3D
CALSCALE:GREGORIAN
BEGIN:VEVENT
DTSTART:20210807T140000Z
DTEND:20210807T150000Z
X-MICROSOFT-CDO-ALLDAYEVENT:FALSE
SUMMARY:Great Outdoor Concert Series/The Fifty 7's: Tunes and Tales
DESCRIPTION:The Fifty 7's: Tunes and Tales will perform a concert Saturday\, August 7\, from 10 to 11 a.m. on the library grounds at the Norrisville Library. Children and parents will enjoy singing and dancing along with this lively music performance\, which will feature many styles of music including family friendly rock\, folk\, jazz and children's songs. The Fifty 7's include instruments such as guitar\, ukulele\, banjo and percussion to create a fun\, interactive experience.
X-ALT-DESC;FMTTYPE=text/html:<span style="font-family:times new roman\,serif"><span style="font-size:12.0pt">The Fifty 7&#39\;s: Tunes and Tales will perform a concert Saturday\, August 7\, from 10 to 11 a.m. on the library grounds at the Norrisville Library. Children and parents will enjoy singing and dancing along with this lively music performance\, which will feature many styles of music including family friendly rock\, folk\, jazz and children&#39\;s songs. The Fifty 7&#39\;s include instruments such as guitar\, ukulele\, banjo and percussion to create a fun\, interactive experience.</span></span><br />\n&nbsp\;
LOCATION:Norrisville Library\, 5310 Norrisville Road\, Norrisville
UID:e.2776.12376
SEQUENCE:3
DTSTAMP:20260424T074642Z
URL:https://business.harfordchamber.org/events/details/great-outdoor-concert-series-the-fifty-7-s-tunes-and-tales-08-07-2021-12376
END:VEVENT

END:VCALENDAR
