BEGIN:VCALENDAR
VERSION:2.0
PRODID:-//ChamberMaster//Event Calendar 2.0//EN
METHOD:PUBLISH
X-PUBLISHED-TTL:P3D
REFRESH-INTERVAL:P3D
CALSCALE:GREGORIAN
BEGIN:VEVENT
DTSTART:20200915T120000Z
DTEND:20200915T133000Z
X-MICROSOFT-CDO-ALLDAYEVENT:FALSE
SUMMARY:Grow with Google Partner Series
DESCRIPTION:Your Harford County Chamber of Commerce is an official Grow with Google Partner\, offering tools and resources to business owners that can help them to  grow their online presence and audience!\n\n\n\nIn this new three part series\, we will explore various topics involving how to make your website work best for your business and how to make better business decisions with analytics. Each seminar will be allotted one hour and thirty minutes for the sponsor remarks\, presentation\, and Q&A. Some seminars may not utilize the entire time frame. \n\n\n\nIn this first seminar\, Make Your Website Work for You- Part 1\, we will discuss:\n\n	Ways to connect with your customers/audience through your website\n	Aspects of a great website\n	Organizing your website to achieve goals  \n	Search Engine Optimization
X-ALT-DESC;FMTTYPE=text/html:Your Harford County Chamber of Commerce is an official Grow with Google Partner\, offering tools and resources to business owners that can help them to&nbsp\; grow their online presence and audience!<br />\n<br />\nIn this new three part series\, we will explore various topics involving how to make your website work best for your business and how to make better business decisions with analytics. Each seminar will be allotted one hour and thirty minutes for the sponsor remarks\, presentation\, and Q&amp\;A. Some seminars may not utilize the entire time frame.&nbsp\;<br />\n<br />\nIn this first seminar\, Make Your Website Work for You- Part 1\, we will discuss:\n<ul>\n	<li>Ways to connect with your customers/audience through your website</li>\n	<li>Aspects of a great website</li>\n	<li>Organizing your website to achieve goals&nbsp\;&nbsp\;</li>\n	<li>Search Engine Optimization</li>\n</ul>\n
LOCATION:Online Zoom Webinar
UID:e.2776.12107
SEQUENCE:3
DTSTAMP:20260424T063211Z
URL:https://business.harfordchamber.org/events/details/grow-with-google-partner-series-12107
END:VEVENT

END:VCALENDAR
