BEGIN:VCALENDAR
VERSION:2.0
PRODID:-//ChamberMaster//Event Calendar 2.0//EN
METHOD:PUBLISH
X-PUBLISHED-TTL:P3D
REFRESH-INTERVAL:P3D
CALSCALE:GREGORIAN
BEGIN:VEVENT
DTSTART:20250906T160000Z
DTEND:20250906T190000Z
X-MICROSOFT-CDO-ALLDAYEVENT:FALSE
SUMMARY:Habitat Harvest BBQ
DESCRIPTION:Habitat for Humanity Susquehanna's Habitat Harvest BBQ \n\n\n\nSaturday\, September 6th from 12pm to 3pm\n\n\n\nOn the waterfront at Marina Park\n\n\n\n$30 per adult ticket and $15 for children \n\n\n\nEnjoy Mission BBQ\, acoustic music\, outdoor games & our program emceed by WMAR 2's Kristy Breslin\n\n\n\nProceeds will support our amazing Habi-Tech Program wherein we build homes each year with Cecil County School of Technology and Harford Technical High School students. Habitat Susquehanna purchases all building materials. Students learn marketable construction skills while applying STEM learning to build Habitat homes for low-income community members.
X-ALT-DESC;FMTTYPE=text/html:Habitat for Humanity Susquehanna&#39\;s&nbsp\;<strong>Habitat Harvest BBQ&nbsp\;</strong><br />\n<br />\nSaturday\, September 6th from 12pm to 3pm<br />\n<br />\nOn the waterfront at Marina Park<br />\n<br />\n$30 per adult ticket and $15 for children&nbsp\;<br />\n<br />\nEnjoy Mission BBQ\, acoustic music\,&nbsp\;outdoor games &amp\; our program emceed by WMAR 2&#39\;s Kristy Breslin<br />\n<br />\n<em>Proceeds will support our amazing Habi-Tech Program wherein we build homes each year with Cecil County School of Technology and Harford Technical High School students. Habitat Susquehanna purchases all building materials. Students learn marketable construction skills while applying STEM learning to build Habitat homes for low-income community members.</em>
LOCATION:On the waterfront at Marina Park 160 S Main St\, Port Deposit\, MD 21904
UID:e.2776.15752
SEQUENCE:3
DTSTAMP:20260423T111018Z
URL:https://business.harfordchamber.org/events/details/habitat-harvest-bbq-15752
END:VEVENT

END:VCALENDAR
