BEGIN:VCALENDAR
VERSION:2.0
PRODID:-//ChamberMaster//Event Calendar 2.0//EN
METHOD:PUBLISH
X-PUBLISHED-TTL:P3D
REFRESH-INTERVAL:P3D
CALSCALE:GREGORIAN
BEGIN:VEVENT
DTSTART:20251027T220000Z
DTEND:20251027T230000Z
X-MICROSOFT-CDO-ALLDAYEVENT:FALSE
SUMMARY:Halloween Dance Party
DESCRIPTION:Harford County Public Library holds a Halloween dance party for families on October 27 from 6 to 7 p.m. at the Aberdeen Library\, 21 Franklin Street. Dance to classic songs with a Halloween twist and wear dancing shoes or a favorite costume. The dance party is supported by the Aberdeen Friends of HCPL. For more information\, visit https://programs.hcplonline.org/event/13954456.
X-ALT-DESC;FMTTYPE=text/html:<span style="font-family:times new roman\,serif"><span style="font-size:14.0pt">Harford County Public Library holds a Halloween dance party for families on October 27 from 6 to 7 p.m. at the Aberdeen Library\, 21 Franklin Street. Dance to classic songs with a Halloween twist and wear dancing shoes or a favorite costume. The dance party is supported by the Aberdeen Friends of HCPL. For more information\, visit </span></span><a href="https://programs.hcplonline.org/event/13954456"><span style="font-family:times new roman\,serif"><span style="font-size:14.0pt">https://programs.hcplonline.org/event/13954456</span></span></a><span style="font-family:times new roman\,serif"><span style="font-size:14.0pt">. </span></span><br />\n<br />\n<br />\n&nbsp\;
LOCATION:Aberdeen Library 21 Franklin Street Aberdeen
UID:e.2776.16097
SEQUENCE:3
DTSTAMP:20260423T091633Z
URL:https://business.harfordchamber.org/events/details/halloween-dance-party-10-27-2025-16097
END:VEVENT

END:VCALENDAR
