BEGIN:VCALENDAR
VERSION:2.0
PRODID:-//ChamberMaster//Event Calendar 2.0//EN
METHOD:PUBLISH
X-PUBLISHED-TTL:P3D
REFRESH-INTERVAL:P3D
CALSCALE:GREGORIAN
BEGIN:VEVENT
DTSTART:20251028T141500Z
DTEND:20251028T150000Z
X-MICROSOFT-CDO-ALLDAYEVENT:FALSE
SUMMARY:Halloween Dance Party
DESCRIPTION:Harford County Public Library holds a Halloween dance party for families on October 28 from 10:15 to 11 a.m. at the Joppa Library\, 655 Towne Center Drive. Dance to classic songs with a Halloween twist and wear dancing shoes or a favorite costume. For more information\, visit https://programs.hcplonline.org/event/14135625.
X-ALT-DESC;FMTTYPE=text/html:<span style="font-family:times new roman\,serif"><span style="font-size:14.0pt">Harford County Public Library holds a Halloween dance party for families on October 28 from 10:15 to 11 a.m. at the Joppa Library\, 655 Towne Center Drive. Dance to classic songs with a Halloween twist and wear dancing shoes or a favorite costume. For more information\, visit </span></span><a href="https://programs.hcplonline.org/event/14135625"><span style="font-family:times new roman\,serif"><span style="font-size:14.0pt">https://programs.hcplonline.org/event/14135625</span></span></a><span style="font-family:times new roman\,serif"><span style="font-size:14.0pt">. </span></span><br />\n<br />\n<br />\n&nbsp\;
LOCATION:Joppa Library 655 Towne Center Drive Joppa
UID:e.2776.16098
SEQUENCE:3
DTSTAMP:20260423T091633Z
URL:https://business.harfordchamber.org/events/details/halloween-dance-party-10-28-2025-16098
END:VEVENT

END:VCALENDAR
