BEGIN:VCALENDAR
VERSION:2.0
PRODID:-//ChamberMaster//Event Calendar 2.0//EN
METHOD:PUBLISH
X-PUBLISHED-TTL:P3D
REFRESH-INTERVAL:P3D
CALSCALE:GREGORIAN
BEGIN:VEVENT
DTSTART:20251031T141500Z
DTEND:20251031T150000Z
X-MICROSOFT-CDO-ALLDAYEVENT:FALSE
SUMMARY:Halloween Dance Party
DESCRIPTION:Harford County Public Library holds a Halloween dance party for families on October 31 from 10:15 to 11 a.m. at the Bel Air Library\, 100 East Pennsylvania Avenue. Dance to classic songs with a Halloween twist and wear dancing shoes or a favorite costume. For more information\, visit https://programs.hcplonline.org/event/14134726.
X-ALT-DESC;FMTTYPE=text/html:<span style="font-family:times new roman\,serif"><span style="font-size:14.0pt">Harford County Public Library holds a Halloween dance party for families on October 31 from 10:15 to 11 a.m. at the Bel Air Library\, 100 East Pennsylvania Avenue. Dance to classic songs with a Halloween twist and wear dancing shoes or a favorite costume. For more information\, visit </span></span><a href="https://programs.hcplonline.org/event/14134726"><span style="font-family:times new roman\,serif"><span style="font-size:14.0pt">https://programs.hcplonline.org/event/14134726</span></span></a><span style="font-family:times new roman\,serif"><span style="font-size:14.0pt">. </span></span><br />\n&nbsp\;
LOCATION:Bel Air Library 100 East Pennsylvania Avenue Bel Air
UID:e.2776.16093
SEQUENCE:3
DTSTAMP:20260423T091222Z
URL:https://business.harfordchamber.org/events/details/halloween-dance-party-16093
END:VEVENT

END:VCALENDAR
