BEGIN:VCALENDAR
VERSION:2.0
PRODID:-//ChamberMaster//Event Calendar 2.0//EN
METHOD:PUBLISH
X-PUBLISHED-TTL:P3D
REFRESH-INTERVAL:P3D
CALSCALE:GREGORIAN
BEGIN:VEVENT
DTSTART:20251025T140000Z
DTEND:20251025T160000Z
X-MICROSOFT-CDO-ALLDAYEVENT:FALSE
SUMMARY:Halloween Hullabaloo
DESCRIPTION:Harford County Public Library invites families to Halloween Hullabaloo on October 25 from 10 a.m. to noon at the Abingdon Library\, 2510 Tollgate Road. Participants will enjoy spooky-themed crafts\, games and dancing. Costumes are encouraged. The event is supported by the Abingdon Friends of HCPL. For more information\, visit https://programs.hcplonline.org/event/14133902.
X-ALT-DESC;FMTTYPE=text/html:&nbsp\;<span style="font-family:times new roman\,serif"><span style="font-size:14.0pt">Harford County Public Library invites families to Halloween Hullabaloo on October 25 from 10 a.m. to noon at the Abingdon Library\, 2510 Tollgate Road. Participants will enjoy spooky-themed crafts\, games and dancing. Costumes are encouraged. The event is supported by the Abingdon Friends of HCPL. For more information\, visit </span></span><a href="https://programs.hcplonline.org/event/14133902"><span style="font-family:times new roman\,serif"><span style="font-size:14.0pt">https://programs.hcplonline.org/event/14133902</span></span></a><span style="font-family:times new roman\,serif"><span style="font-size:14.0pt">. </span></span><br />\n&nbsp\;
LOCATION:Abingdon Library 2510 Tollgate Road Abingdon
UID:e.2776.16091
SEQUENCE:3
DTSTAMP:20260423T091455Z
URL:https://business.harfordchamber.org/events/details/halloween-hullabaloo-10-25-2025-16091
END:VEVENT

END:VCALENDAR
