BEGIN:VCALENDAR
VERSION:2.0
PRODID:-//ChamberMaster//Event Calendar 2.0//EN
METHOD:PUBLISH
X-PUBLISHED-TTL:P3D
REFRESH-INTERVAL:P3D
CALSCALE:GREGORIAN
BEGIN:VEVENT
DTSTART:20251030T203000Z
DTEND:20251030T213000Z
X-MICROSOFT-CDO-ALLDAYEVENT:FALSE
SUMMARY:Halloween Hullabaloo
DESCRIPTION:Harford County Public Library invites families to Halloween Hullabaloo on October 30 from 4:30 to 5:30 p.m. at the Edgewood Library\, 629 Edgewood Road. Participants will enjoy spooky-themed crafts\, games and dancing. Costumes are encouraged. For more information\, visit https://programs.hcplonline.org/event/14136986.
X-ALT-DESC;FMTTYPE=text/html:<span style="font-family:times new roman\,serif"><span style="font-size:14.0pt">Harford County Public Library invites families to Halloween Hullabaloo on October 30 from 4:30 to 5:30 p.m. at the Edgewood Library\, 629 Edgewood Road. Participants will enjoy spooky-themed crafts\, games and dancing. Costumes are encouraged. For more information\, visit </span></span><a href="https://programs.hcplonline.org/event/14136986"><span style="font-family:times new roman\,serif"><span style="font-size:14.0pt">https://programs.hcplonline.org/event/14136986</span></span></a><span style="font-family:times new roman\,serif"><span style="font-size:14.0pt">. </span></span><br />\n&nbsp\;
LOCATION:Edgewood Library 629 Edgewood Road Edgewood
UID:e.2776.16094
SEQUENCE:3
DTSTAMP:20260423T091319Z
URL:https://business.harfordchamber.org/events/details/halloween-hullabaloo-10-30-2025-16094
END:VEVENT

END:VCALENDAR
