BEGIN:VCALENDAR
VERSION:2.0
PRODID:-//ChamberMaster//Event Calendar 2.0//EN
METHOD:PUBLISH
X-PUBLISHED-TTL:P3D
REFRESH-INTERVAL:P3D
CALSCALE:GREGORIAN
BEGIN:VEVENT
DTSTART:20200207T160000Z
DTEND:20200207T170000Z
X-MICROSOFT-CDO-ALLDAYEVENT:FALSE
SUMMARY:Har-co Credit Union is Celebrating 65 Years
DESCRIPTION:Har-co Credit Union is\n\nCelebrating 65 Years!\n\nPlease join us as we unveil our new branding\n\nand celebrate 65 successful years in\n\nHarford County as a community credit union.\n\n\n\nA new year\, a new focus.\n\n\n\nLight refreshments will be served.
X-ALT-DESC;FMTTYPE=text/html:<p><span style="font-size:18px">Har-co Credit Union is<br />\n<span style="color:#007078"><span style="font-size:36px"><em>Celebrating 65 Years!</em></span></span></span><br />\n<span style="font-size:18px">Please join us as we unveil our new branding<br />\nand celebrate 65 successful years in<br />\nHarford County&nbsp\;</span><span style="font-size:18px">as a community credit union</span><span style="font-size:18px">.</span></p>\n\n<p><br />\n<span style="font-size:20px"><span style="color:#007078"><strong>A new year\, a new focus.</strong></span></span><br />\n<br />\nLight refreshments will be served.</p>\n
LOCATION:Bel Air Branch 30 N. Hickory Ave Bel Air
UID:e.2776.11656
SEQUENCE:3
DTSTAMP:20260424T233607Z
URL:https://business.harfordchamber.org/events/details/har-co-credit-union-is-celebrating-65-years-11656
END:VEVENT

END:VCALENDAR
