BEGIN:VCALENDAR
VERSION:2.0
PRODID:-//ChamberMaster//Event Calendar 2.0//EN
METHOD:PUBLISH
X-PUBLISHED-TTL:P3D
REFRESH-INTERVAL:P3D
CALSCALE:GREGORIAN
BEGIN:VEVENT
DTSTART:20250820T200000Z
DTEND:20250820T220000Z
X-MICROSOFT-CDO-ALLDAYEVENT:FALSE
SUMMARY:Har-co Credit Union's 70th. Anniversary
DESCRIPTION:The Harford County Chamber of Commerce is proud to host a celebratory event to commemorate the 70th anniversary of Har-co Credit Union at their headquarters in Bel Air\, MD.\n	 The Harford County Chamber of Commerce cordially invites you to attend the ceremony and to offer well wishes and congratulations!  Har-co Credit Union will be providing light refreshments and providing 70th anniversary travel mugs to attendees.  If you plan to be in attendance for the anniversary celebration\, please RSVP to Phil Logan: membership@harfordchamber.org by Tuesday\, August 19\, 2025\, by 2 p.m.
X-ALT-DESC;FMTTYPE=text/html:<ul dir="ltr">\n	<li style="color: rgb(36\, 36\, 36)\; font-family: &quot\;Segoe UI&quot\;\, &quot\;Segoe UI Web (West European)&quot\;\, -apple-system\, BlinkMacSystemFont\, Roboto\, &quot\;Helvetica Neue&quot\;\, sans-serif\; font-size: 15px\; margin: 0px\;"><span style="border: 0px\; font-style: inherit\; font-variant: inherit\; font-weight: inherit\; font-stretch: inherit\; font-size: 12pt\; line-height: inherit\; font-family: Aptos\, sans-serif\; font-optical-sizing: inherit\; font-size-adjust: inherit\; font-kerning: inherit\; font-feature-settings: inherit\; font-variation-settings: inherit\; margin: 0px\; padding: 0px\; vertical-align: baseline\; color: black\;"><b data-olk-copy-source="MessageBody">The Harford County Chamber of Commerce is proud to&nbsp\;host a celebratory event to commemorate the 70<sup>th</sup>&nbsp\;anniversary of Har-co Credit Union at their headquarters in Bel Air\, MD.</b></span></li>\n	<li style="color: rgb(36\, 36\, 36)\; font-family: &quot\;Segoe UI&quot\;\, &quot\;Segoe UI Web (West European)&quot\;\, -apple-system\, BlinkMacSystemFont\, Roboto\, &quot\;Helvetica Neue&quot\;\, sans-serif\; font-size: 15px\; margin: 0px\;"><span style="border: 0px\; font-style: inherit\; font-variant: inherit\; font-weight: inherit\; font-stretch: inherit\; font-size: 12pt\; line-height: inherit\; font-family: Aptos\, sans-serif\; font-optical-sizing: inherit\; font-size-adjust: inherit\; font-kerning: inherit\; font-feature-settings: inherit\; font-variation-settings: inherit\; margin: 0px\; padding: 0px\; vertical-align: baseline\; color: black\;">&#8203\;The Harford County Chamber of Commerce cordially invites you to attend the ceremony and to offer well wishes and&nbsp\;</span><span style="border: 0px\; font-style: inherit\; font-variant: inherit\; font-weight: inherit\; font-stretch: inherit\; font-size: 12pt\; line-height: inherit\; font-family: Aptos\, sans-serif\; font-optical-sizing: inherit\; font-size-adjust: inherit\; font-kerning: inherit\; font-feature-settings: inherit\; font-variation-settings: inherit\; margin: 0px\; padding: 0px\; vertical-align: baseline\; color: rgb(15\, 84\, 140)\; background-color: rgb(207\, 228\, 250)\;"><span class="markh9nw4xwps uM2yb" data-markjs="true" style="border: 0px\; font: inherit\; margin: 0px\; padding: 0px 1px\; vertical-align: baseline\; color: rgb(211\, 66\, 77)\; background-color: rgb(247\, 224\, 226)\; border-radius: 2px\; text-decoration: inherit\;">congratulations</span>!</span><span style="border: 0px\; font-style: inherit\; font-variant: inherit\; font-weight: inherit\; font-stretch: inherit\; font-size: 12pt\; line-height: inherit\; font-family: Aptos\, sans-serif\; font-optical-sizing: inherit\; font-size-adjust: inherit\; font-kerning: inherit\; font-feature-settings: inherit\; font-variation-settings: inherit\; margin: 0px\; padding: 0px\; vertical-align: baseline\; color: black\;">&nbsp\; Har-co Credit Union will be providing light refreshments and providing 70th anniversary travel mugs to attendees.&nbsp\; If you plan to be in attendance for the anniversary celebration\, please RSVP to Phil Logan:&nbsp\;</span><a href="mailto:membership@harfordchamber.org">membership@harfordchamber.org</a><span style="border: 0px\; font-style: inherit\; font-variant: inherit\; font-weight: inherit\; font-stretch: inherit\; font-size: 12pt\; line-height: inherit\; font-family: Aptos\, sans-serif\; font-optical-sizing: inherit\; font-size-adjust: inherit\; font-kerning: inherit\; font-feature-settings: inherit\; font-variation-settings: inherit\; margin: 0px\; padding: 0px\; vertical-align: baseline\; color: black\;"> by Tuesday\, August 19\, 2025\, by 2 p.m.&nbsp\;</span></li>\n</ul>\n
LOCATION:Har-co Credit Union\, 30 N. Hickory Ave.\, Bel Air\, MD 21014
UID:e.2776.16036
SEQUENCE:3
DTSTAMP:20260421T131052Z
URL:https://business.harfordchamber.org/events/details/har-co-credit-union-s-70th-anniversary-16036
END:VEVENT

END:VCALENDAR
