BEGIN:VCALENDAR
VERSION:2.0
PRODID:-//ChamberMaster//Event Calendar 2.0//EN
METHOD:PUBLISH
X-PUBLISHED-TTL:P3D
REFRESH-INTERVAL:P3D
CALSCALE:GREGORIAN
BEGIN:VEVENT
DTSTART:20190923T210000Z
DTEND:20190923T230000Z
X-MICROSOFT-CDO-ALLDAYEVENT:FALSE
SUMMARY:Harford Business Network Networking Happy Hour supporting Habitat for Humanity
DESCRIPTION:Harford Business Network (HBN) is hosting the 2nd Annual Happy Hour and Networking event supporting Habitat for Humanity Susquehanna at Alecraft Brewery. The $5 ticket price includes a 1/2 price beer\, food sponsored by CrossRoads Catering\, great networking opportunities and raffles including a $500 Visa Gift Card Raffle sponsored by HBN. Ticket sales and raffle proceeds go toward supporting Habitat for Humanity Susquehanna to create more affordable housing opportunities throughout Harford and Cecil Counties by building\, renovating and repairing homes in partnership with the community.
X-ALT-DESC;FMTTYPE=text/html:Harford Business Network (HBN) is hosting the 2nd Annual Happy Hour and Networking event supporting Habitat for Humanity Susquehanna at Alecraft Brewery. The $5 ticket price includes a 1/2 price beer\, food sponsored by CrossRoads Catering\, great networking opportunities and raffles including a $500 Visa Gift Card Raffle sponsored by HBN. Ticket sales and raffle proceeds go toward supporting Habitat for Humanity Susquehanna to create more affordable housing opportunities throughout Harford and Cecil Counties by building\, renovating and repairing homes in partnership with the community.
LOCATION:Alecraft Brewery 319 S Main St #100 (behind Preston's) Bel Air\, MD 21014
UID:e.2776.8495
SEQUENCE:3
DTSTAMP:20260425T234258Z
URL:https://business.harfordchamber.org/events/details/harford-business-network-networking-happy-hour-supporting-habitat-for-humanity-8495
END:VEVENT

END:VCALENDAR
