BEGIN:VCALENDAR
VERSION:2.0
PRODID:-//ChamberMaster//Event Calendar 2.0//EN
METHOD:PUBLISH
X-PUBLISHED-TTL:P3D
REFRESH-INTERVAL:P3D
CALSCALE:GREGORIAN
BEGIN:VEVENT
DTSTART:20190907T140000Z
DTEND:20190907T180000Z
X-MICROSOFT-CDO-ALLDAYEVENT:FALSE
SUMMARY:Harford County Department of Emergency Services Open House
DESCRIPTION:Harford County's Department of Emergency Services will hold an open house for citizens to learn about local emergency operations\, emergency preparedness and lifesaving skills. Everyone is welcome to this family-friendly event from 10:00 a.m. to 2:00 p.m. on Saturday\, September 7\, at 2220 Ady Road in Forest Hill. Emergency vehicles will be available\, and exhibits will include a therapy dog from Pets on Wheels\, visit https://www.harfordcountymd.gov/ArchiveCenter/ViewFile/Item/1640 for more details.
X-ALT-DESC;FMTTYPE=text/html:Harford County&#39\;s Department of Emergency Services will hold an open house for citizens to learn about local emergency operations\, emergency preparedness and lifesaving skills. Everyone is welcome to this family-friendly event from 10:00 a.m. to 2:00 p.m. on Saturday\, September 7\, at 2220 Ady Road in Forest Hill. Emergency vehicles will be available\, and exhibits will include a therapy dog from Pets on Wheels\, visit https://www.harfordcountymd.gov/ArchiveCenter/ViewFile/Item/1640 for more details.
LOCATION:2220 Ady Road Forest Hill\, MD 21050
UID:e.2776.8511
SEQUENCE:3
DTSTAMP:20260426T012510Z
URL:https://business.harfordchamber.org/events/details/harford-county-department-of-emergency-services-open-house-8511
END:VEVENT

END:VCALENDAR
