BEGIN:VCALENDAR
VERSION:2.0
PRODID:-//ChamberMaster//Event Calendar 2.0//EN
METHOD:PUBLISH
X-PUBLISHED-TTL:P3D
REFRESH-INTERVAL:P3D
CALSCALE:GREGORIAN
BEGIN:VEVENT
DTSTART:20190921T124500Z
DTEND:20190921T170000Z
X-MICROSOFT-CDO-ALLDAYEVENT:FALSE
SUMMARY:Harford County First-Time Homebuyer Workshop
DESCRIPTION:Join us for our first-time homebuyer workshop\, where participants learn about the homebuying process from A to Z\, including: - Homeownership responsibilities - Housing affordability\, credit\, and borrowing - Home inspections\, and more! REGISTRATION IS REQUIRED: https://www.eventbrite.com/e/harford-county-housing-first-time-homebuyer-workshop-tickets-70689804107
X-ALT-DESC;FMTTYPE=text/html:Join us for our first-time homebuyer workshop\, where participants learn about the homebuying process from A to Z\, including: - Homeownership responsibilities - Housing affordability\, credit\, and borrowing - Home inspections\, and more! REGISTRATION IS REQUIRED: https://www.eventbrite.com/e/harford-county-housing-first-time-homebuyer-workshop-tickets-70689804107
LOCATION:McFaul Activities Center 525 W. Macphail Road Bel Air\, MD 21014
UID:e.2776.8532
SEQUENCE:3
DTSTAMP:20260425T234017Z
URL:https://business.harfordchamber.org/events/details/harford-county-first-time-homebuyer-workshop-8532
END:VEVENT

END:VCALENDAR
