BEGIN:VCALENDAR
VERSION:2.0
PRODID:-//ChamberMaster//Event Calendar 2.0//EN
METHOD:PUBLISH
X-PUBLISHED-TTL:P3D
REFRESH-INTERVAL:P3D
CALSCALE:GREGORIAN
BEGIN:VEVENT
DTSTART:20191009T230000Z
DTEND:20191010T010000Z
X-MICROSOFT-CDO-ALLDAYEVENT:FALSE
SUMMARY:Harford County Mental Health Awareness Training
DESCRIPTION:Harford County will offer a series of FREE classes on mental health and safety to raise awareness and empower citizens to peacefully resolve conflict and help others in crisis: One in four people experience a mental health issue during the course of a year\, according to data collected by the World Health Organization. In this training provided by the Harford County Department of Community Services\, learn how to recognize the signs of mental illness and find out what you can do to help yourself or someone you know. This workshop provides accurate information about mental illness\, the signs and symptoms of various disorders\, and available community resources. Register here: https://www.harfordcountymd.gov/FormCenter/Government-Community-Relations-47/Mental-Health-Safety-Community-Education-305
X-ALT-DESC;FMTTYPE=text/html:Harford County will offer a series of FREE classes on mental health and safety to raise awareness and empower citizens to peacefully resolve conflict and help others in crisis: One in four people experience a mental health issue during the course of a year\, according to data collected by the World Health Organization. In this training provided by the Harford County Department of Community Services\, learn how to recognize the signs of mental illness and find out what you can do to help yourself or someone you know. This workshop provides accurate information about mental illness\, the signs and symptoms of various disorders\, and available community resources. Register here: https://www.harfordcountymd.gov/FormCenter/Government-Community-Relations-47/Mental-Health-Safety-Community-Education-305
LOCATION:Harford County Government Building 2220 Ady Road Forest Hill\, MD 21050
UID:e.2776.8515
SEQUENCE:3
DTSTAMP:20260425T000900Z
URL:https://business.harfordchamber.org/events/details/harford-county-mental-health-awareness-training-10-09-2019-8515
END:VEVENT

END:VCALENDAR
