BEGIN:VCALENDAR
VERSION:2.0
PRODID:-//ChamberMaster//Event Calendar 2.0//EN
METHOD:PUBLISH
X-PUBLISHED-TTL:P3D
REFRESH-INTERVAL:P3D
CALSCALE:GREGORIAN
BEGIN:VEVENT
DTSTART:20200312T220000Z
DTEND:20200313T000000Z
X-MICROSOFT-CDO-ALLDAYEVENT:FALSE
SUMMARY:Harford County Presents: The Gift of Failure
DESCRIPTION:Children need to experience the disappointment and frustration from life's inevitable problems so they can become successful\, resilient\, self-reliant adults. Best-selling author Jessica Lahey will explain "The Gift of Failure: How the best parents learn to let go so their children can succeed." The Harford County Department of Community Services\, under the Glassman administration\, is pleased to offer this FREE event for parents\, in cooperation with the HCPS Parent Academy. Free childcare available for ages 4 - 12 only\, pre-registration is required\, visit http://www.harfordcountymd.gov/2801/The-Gift-of-Failure to register.
X-ALT-DESC;FMTTYPE=text/html:Children need to experience the disappointment and frustration from life&rsquo\;s inevitable problems so they can become successful\, resilient\, self-reliant adults. Best-selling author Jessica Lahey will explain &ldquo\;The Gift of Failure: How the best parents learn to let go so their children can succeed.&rdquo\; The Harford County Department of Community Services\, under the Glassman administration\, is pleased to offer this FREE event for parents\, in cooperation with the HCPS Parent Academy. Free childcare available for ages 4 - 12 only\, pre-registration is required\, visit http://www.harfordcountymd.gov/2801/The-Gift-of-Failure to register.
LOCATION:Patterson Mill High School 85 Patterson Mill Road Bel Air\, MD 21014
UID:e.2776.11717
SEQUENCE:3
DTSTAMP:20260424T162107Z
URL:https://business.harfordchamber.org/events/details/harford-county-presents-the-gift-of-failure-11717
END:VEVENT

END:VCALENDAR
