BEGIN:VCALENDAR
VERSION:2.0
PRODID:-//ChamberMaster//Event Calendar 2.0//EN
METHOD:PUBLISH
X-PUBLISHED-TTL:P3D
REFRESH-INTERVAL:P3D
CALSCALE:GREGORIAN
BEGIN:VEVENT
DTSTART:20190919T220000Z
DTEND:20190920T000000Z
X-MICROSOFT-CDO-ALLDAYEVENT:FALSE
SUMMARY:Harford County Presents: Your Kids & Social Media
DESCRIPTION:Dr. Leonard Sax is a best-selling author and expert on how social media and video games affect our youth. How much time is appropriate to spend on these activities? What is the relationship between social media an depression? When should a child have a smartphone? Dr. Sax will answer these questions and more. The Harford County Office of Drug Control Policy\, under the Glassman administration\, is pleased to offer this FREE event for parents and students\, in cooperation with the HCPS Parent Academy. Pre-registration is required\, visit http://www.harfordcountymd.gov/ODCP to register.
X-ALT-DESC;FMTTYPE=text/html:Dr. Leonard Sax is a best-selling author and expert on how social media and video games affect our youth. How much time is appropriate to spend on these activities? What is the relationship between social media an depression? When should a child have a smartphone? Dr. Sax will answer these questions and more. The Harford County Office of Drug Control Policy\, under the Glassman administration\, is pleased to offer this FREE event for parents and students\, in cooperation with the HCPS Parent Academy. Pre-registration is required\, visit http://www.harfordcountymd.gov/ODCP to register.
LOCATION:Bel Air High School 100 Heighe Street Bel Air\, MD 21014
UID:e.2776.8533
SEQUENCE:3
DTSTAMP:20260426T012324Z
URL:https://business.harfordchamber.org/events/details/harford-county-presents-your-kids-social-media-8533
END:VEVENT

END:VCALENDAR
