BEGIN:VCALENDAR
VERSION:2.0
PRODID:-//ChamberMaster//Event Calendar 2.0//EN
METHOD:PUBLISH
X-PUBLISHED-TTL:P3D
REFRESH-INTERVAL:P3D
CALSCALE:GREGORIAN
BEGIN:VEVENT
DTSTART:20260328T170000Z
DTEND:20260328T200000Z
X-MICROSOFT-CDO-ALLDAYEVENT:FALSE
SUMMARY:Harford County Public Library/Inclusive Egg Hunt
DESCRIPTION:Harford County Public Library presents an Inclusive Egg Hunt\, a fully accessible\, creativity-filled spring celebration\, on March 28 from 1 to 4 p.m. at Coppermine Bel Air Athletic Club\, 658 Boulton Street in Bel Air. The event reimagines the traditional egg hunt to ensure children of all abilities\, especially those who use wheelchairs or other mobility devices\, can fully participate. \n\n \n\nFamilies are invited to stroll a festive path of spring-themed trunks and interactive stations\, collecting colorful eggs\, treats and surprises along the way. Instead of searching across grassy fields\, children engage with table-height\, wheelchair-accessible experiences designed to bring the fun directly to them in imaginative ways. This egg hunt is a welcoming\, all-ages community event where families can explore at their own pace and enjoy a safe\, inclusive spring tradition together.\n\n \n\nThe sponsor of the event is Butcher on the Bay Restaurant. Event partners include Harford Center\, SURVICE Engineering\, Service Coordination\, Inc.\, Jarrettsville Sealcoating and the Harford County Commission on Disabilities. \n\n \n\nCommunity members\, businesses and organizations are invited to help bring this event to life by participating in one of two ways. Participants may host a spring-themed trunk by decorating a vehicle and handing out candy\, toys or trinkets in a style similar to a traditional trunk or treat. No special equipment is required\, just creativity and enthusiasm. Participants may also create an accessible egg delivery station by designing a child-friendly\, table-height experience that allows children to collect eggs with ease. Examples include pegboard drops\, balloon-delivered eggs\, tabletop chutes or ramps\, simple pulley systems\, magnetic egg pickups or any other imaginative\, engaging and accessible setup.\n\n \n\nTo sign up to host a trunk\, visit programs.hcplonline.org/event/15513226. For questions\, contact Amber C. Shrodes\, director of philanthropy and community engagement\, at 410-273-5600 x6583 or shrodes@hcplonline.org.
X-ALT-DESC;FMTTYPE=text/html:<span style="font-family:times new roman\,serif">Harford County Public Library presents an Inclusive Egg Hunt\, a fully accessible\, creativity-filled spring celebration\, on March 28 from 1 to 4 p.m. at Coppermine Bel Air Athletic Club\, 658 Boulton Street in Bel Air. The event reimagines the traditional egg hunt to ensure children of all abilities\, especially those who use wheelchairs or other mobility devices\, can fully participate. </span><br />\n&nbsp\;<br />\n<span style="font-family:times new roman\,serif">Families are invited to stroll a festive path of spring-themed trunks and interactive stations\, collecting colorful eggs\, treats and surprises along the way. Instead of searching across grassy fields\, children engage with table-height\, wheelchair-accessible experiences designed to bring the fun directly to them in imaginative ways. This egg hunt is a welcoming\, all-ages community event where families can explore at their own pace and enjoy a safe\, inclusive spring tradition together.</span><br />\n&nbsp\;<br />\n<span style="color:black"><span style="font-family:times new roman\,serif">The sponsor of the event is Butcher on the Bay Restaurant. Event partners include Harford Center\, SURVICE Engineering\, Service Coordination\, Inc.\, Jarrettsville Sealcoating and the Harford County Commission on Disabilities. </span></span><br />\n&nbsp\;<br />\n<span style="font-family:times new roman\,serif">Community members\, businesses and organizations are invited to help bring this event to life by participating in one of two ways. Participants may host a spring-themed trunk by decorating a vehicle and handing out candy\, toys or trinkets in a style similar to a traditional trunk or treat. No special equipment is required\, just creativity and enthusiasm. Participants may also create an accessible egg delivery station by designing a child-friendly\, table-height experience that allows children to collect eggs with ease. Examples include pegboard drops\, balloon-delivered eggs\, tabletop chutes or ramps\, simple pulley systems\, magnetic egg pickups or any other imaginative\, engaging and accessible setup.</span><br />\n&nbsp\;<br />\n<span style="font-family:times new roman\,serif">To sign up to host a trunk\,&nbsp\;visit </span><a href="https://programs.hcplonline.org/event/15513226"><span style="font-family:times new roman\,serif">programs.hcplonline.org/event/15513226</span></a><span style="font-family:times new roman\,serif">. For questions\, contact Amber C. Shrodes\,&nbsp\;director of philanthropy and community engagement\, at 410-273-5600 x6583 or&nbsp\;</span><a href="mailto:shrodes@hcplonline.org"><span style="font-family:times new roman\,serif">shrodes@hcplonline.org</span></a><span style="font-family:times new roman\,serif">.</span><br />\n&nbsp\;
LOCATION:Coppermine Bel Air Athletic Club 658 Boulton Street Bel Air
UID:e.2776.16217
SEQUENCE:3
DTSTAMP:20260423T130708Z
URL:https://business.harfordchamber.org/events/details/harford-county-public-library-inclusive-egg-hunt-16217
END:VEVENT

END:VCALENDAR
