BEGIN:VCALENDAR
VERSION:2.0
PRODID:-//ChamberMaster//Event Calendar 2.0//EN
METHOD:PUBLISH
X-PUBLISHED-TTL:P3D
REFRESH-INTERVAL:P3D
CALSCALE:GREGORIAN
BEGIN:VEVENT
DTSTART:20190928T140000Z
DTEND:20190928T210000Z
X-MICROSOFT-CDO-ALLDAYEVENT:FALSE
SUMMARY:Harford County Public Library's 9th Annual Comic-Con
DESCRIPTION:Harford County Public Library's 9th Annual Comic-Con\, a celebration of all things nerdy\, will be held Saturday\, September 28\, from 10 a.m. to 5 p.m. at the Bel Air Library\, 100 East Pennsylvania Avenue. Comic-Con features events for children\, teens and adults and is free of charge.\n\n \n\nAll day events include virtual reality exploration\, video and board games\, green screen photo opportunities\, child-friendly crafts\, jumbo-sized family games\, Magic the Gathering and a Fandom scavenger hunt. \n\n \n\nSherri Cook Woosley\, a Harford County resident\, will discuss her debut novel\, "Walking Through Fire\," that combines her experience of being the parent of a child with cancer with Sumerian mythology\, from 11 a.m. to 12 p.m. Woosley's book has been longlisted for the Booknest Debut Novel Award and Baltimore's Best 2019 in the novel category. Her story\, "Very Happy and Very Productive\," was a winner in the Baltimore Science Fiction Society's annual contest.\n\n \n\nOther special activities at Comic-Con include "Nerdy Story Time" from 10:15 to 11 a.m.\; BEAM from 11 a.m. to 12:30 p.m.\; D & D Character Workshop from 11a.m. to 12:30 p.m.\; "Robo Petting Zoo" from 11:30 a.m. to 1:30 p.m.\; a trivia contest from 12:30 to 1:30 p.m.\; "Family Friendly Virtual Reality" from 1 to 2:30 p.m.\; "Soul Caliber 6 Tournament" from 1:30 to 3 p.m.\; "Dungeons & Dragons" from 1:30 to 3:30 p.m.\; teen crafts including Dragon Eye from 2 to 4 p.m.\; artist panel from 2:30 to 3:30 p.m.\; art workshop from 3:30 to 4:30 p.m.\; and sewing craft (for those ages 8 and older) from 3:30 to 4:30 p.m.\n\n \n\nComic-Con participants are invited to wear a costume. A costume contest for kids takes place from 11:30 a.m. to 12 p.m. and from 2 to 2:30 p.m. A costume contest for those ages 13 and up will be held from 2:30 to 3 p.m.\n\n \n\nComic-Con is a registered trademark of San Diego Comic Convention. Used with permission.
X-ALT-DESC;FMTTYPE=text/html:<span style="font-family:times new roman\,serif"><span style="font-size:12.0pt">Harford County Public Library&#39\;s 9th Annual Comic-Con\, a celebration of all things nerdy\, will be held Saturday\, September 28\, from 10 a.m. to 5 p.m. at the Bel Air Library\, 100 East Pennsylvania Avenue. Comic-Con features events for children\, teens and adults and is free of charge.</span></span><br />\n&nbsp\;<br />\n<span style="font-family:times new roman\,serif"><span style="font-size:12.0pt">All day events include virtual reality exploration\, video and board games\, green screen photo opportunities\, child-friendly crafts\, jumbo-sized family games\, Magic the Gathering and a Fandom scavenger hunt. </span></span><br />\n&nbsp\;<br />\n<span style="font-family:times new roman\,serif"><span style="font-size:12.0pt">Sherri Cook Woosley\, a Harford County resident\, will discuss her debut novel\, &quot\;Walking Through Fire\,&quot\; that combines her experience of being the parent of a child with cancer with Sumerian mythology\, from 11 a.m. to 12 p.m. Woosley&#39\;s book has been longlisted for the Booknest Debut Novel Award and Baltimore&#39\;s Best 2019 in the novel category. Her story\, &quot\;Very Happy and Very Productive\,&quot\; was a winner in the Baltimore Science Fiction Society&#39\;s annual contest.</span></span><br />\n&nbsp\;<br />\n<span style="font-family:times new roman\,serif"><span style="font-size:12.0pt">Other special activities at Comic-Con include &quot\;Nerdy Story Time&quot\; from 10:15 to 11 a.m.\; BEAM from 11 a.m. to 12:30 p.m.\; D &amp\; D Character Workshop from 11a.m. to 12:30 p.m.\; &quot\;Robo Petting Zoo&quot\; from 11:30 a.m. to 1:30 p.m.\; a trivia contest from 12:30 to 1:30 p.m.\; &quot\;Family Friendly Virtual Reality&quot\; from 1 to 2:30 p.m.\; &quot\;Soul Caliber 6 Tournament&quot\; from 1:30 to 3 p.m.\; &quot\;Dungeons &amp\; Dragons&quot\; from 1:30 to 3:30 p.m.\; teen crafts including Dragon Eye from 2 to 4 p.m.\; artist panel from 2:30 to 3:30 p.m.\; art workshop from 3:30 to 4:30 p.m.\; and sewing craft (for those ages 8 and older) from 3:30 to 4:30 p.m.</span></span><br />\n&nbsp\;<br />\n<span style="font-family:times new roman\,serif"><span style="font-size:12.0pt">Comic-Con participants are invited to wear a costume. A costume contest for kids takes place from 11:30 a.m. to 12 p.m. and from 2 to 2:30 p.m. A costume contest for those ages 13 and up will be held from 2:30 to 3 p.m.</span></span><br />\n&nbsp\;<br />\n<span style="font-family:times new roman\,serif"><span style="font-size:12.0pt">Comic-Con is a registered trademark of San Diego Comic Convention. Used with permission.</span></span><br />\n<br />\n&nbsp\;
LOCATION:Bel Air Library 100 East Pennsylvania Avenue Bel Air\, MD 21014
UID:e.2776.8529
SEQUENCE:3
DTSTAMP:20260425T234017Z
URL:https://business.harfordchamber.org/events/details/harford-county-public-library-s-9th-annual-comic-con-8529
END:VEVENT

END:VCALENDAR
