BEGIN:VCALENDAR
VERSION:2.0
PRODID:-//ChamberMaster//Event Calendar 2.0//EN
METHOD:PUBLISH
X-PUBLISHED-TTL:P3D
REFRESH-INTERVAL:P3D
CALSCALE:GREGORIAN
BEGIN:VEVENT
DTSTART:20190627T113000Z
DTEND:20190627T200000Z
X-MICROSOFT-CDO-ALLDAYEVENT:FALSE
SUMMARY:Harford County’s 15th Annual Drug Symposium
DESCRIPTION:Registration is now open for Harford County Office of Drug Control Policy's annual symposium. There is a new line up this year featuring experts in the fields of addiction and recovery. This FREE event is open to the public and those who attend will receive a certificate along with 5 CEUs (based on all day attendance).. Please register at http://www.harfordcountymd.gov/ODCP or if you would like to be a vendor\, please contact ODCP@harfordcountymd.gov.
X-ALT-DESC;FMTTYPE=text/html:Registration is now open for Harford County Office of Drug Control Policy&#39\;s annual symposium. There is a new line up this year featuring experts in the fields of addiction and recovery. This FREE event is open to the public and those who attend will receive a certificate along with 5 CEUs (based on all day attendance).. Please register at http://www.harfordcountymd.gov/ODCP or if you would like to be a vendor\, please contact ODCP@harfordcountymd.gov.
LOCATION:Bel Air High School 100 Heighe Street Bel Air\, MD 21014
UID:e.2776.8400
SEQUENCE:3
DTSTAMP:20260426T043809Z
URL:https://business.harfordchamber.org/events/details/harford-county-s-15th-annual-drug-symposium-8400
END:VEVENT

END:VCALENDAR
