BEGIN:VCALENDAR
VERSION:2.0
PRODID:-//ChamberMaster//Event Calendar 2.0//EN
METHOD:PUBLISH
X-PUBLISHED-TTL:P3D
REFRESH-INTERVAL:P3D
CALSCALE:GREGORIAN
BEGIN:VEVENT
DTSTART:20191109T150000Z
DTEND:20191109T180000Z
X-MICROSOFT-CDO-ALLDAYEVENT:FALSE
SUMMARY:Harford County’s Annual Veteran’s Resource Fair
DESCRIPTION:In support of those who served our nation\, Harford County will host the 4th Annual Resource Fair for veterans and their families. This FREE event will be a one-stop-shop for information about benefits\, jobs\, housing and educational opportunities for veterans. Veterans can also enter FREE to win a 70" flatscreen T.V. with wall mount\, or a motorcycle from Eisenhauer's Chesapeake Harley-Davidson! Veteran-owned Mission BBQ will provide free sandwiches\, compliments of Harford County government. This annual resource fair is hosted by the all-volunteer Harford County Commission on Veterans Affairs under the administration of County Executive Barry Glassman.
X-ALT-DESC;FMTTYPE=text/html:In support of those who served our nation\, Harford County will host the 4th Annual Resource Fair for veterans and their families. This FREE event will be a one-stop-shop for information about benefits\, jobs\, housing and educational opportunities for veterans. Veterans can also enter FREE to win a 70&rdquo\; flatscreen T.V. with wall mount\, or a motorcycle from Eisenhauer&rsquo\;s Chesapeake Harley-Davidson! Veteran-owned Mission BBQ will provide free sandwiches\, compliments of Harford County government. This annual resource fair is hosted by the all-volunteer Harford County Commission on Veterans Affairs under the administration of County Executive Barry Glassman.
LOCATION:Bel Air Armory 37 N. Main St.\, Bel Air\, MD 21014
UID:e.2776.9575
SEQUENCE:3
DTSTAMP:20260424T221142Z
URL:https://business.harfordchamber.org/events/details/harford-county-s-annual-veteran-s-resource-fair-9575
END:VEVENT

END:VCALENDAR
