BEGIN:VCALENDAR
VERSION:2.0
PRODID:-//ChamberMaster//Event Calendar 2.0//EN
METHOD:PUBLISH
X-PUBLISHED-TTL:P3D
REFRESH-INTERVAL:P3D
CALSCALE:GREGORIAN
BEGIN:VEVENT
DTSTART:20191112T230000Z
DTEND:20191113T010000Z
X-MICROSOFT-CDO-ALLDAYEVENT:FALSE
SUMMARY:Harford County’s Business Builder Series: Part 4
DESCRIPTION:Join the Harford County Office of Community & Economic Development for the final FREE seminar in the 2019 Business Builder Series: Referrals from your customers are the most efficient way to grow your business\, so how can you get more? Attend this interactive session and learn how to receive more and better referrals from your network. Register today: https://bit.ly/BusinessReferrals
X-ALT-DESC;FMTTYPE=text/html:Join the Harford County Office of Community &amp\; Economic Development for the final FREE seminar in the 2019 Business Builder Series: Referrals from your customers are the most efficient way to grow your business\, so how can you get more? Attend this interactive session and learn how to receive more and better referrals from your network. Register today: https://bit.ly/BusinessReferrals
LOCATION:The GroundFloor 2021G Pulaski Hwy Havre de Grace\, MD 21078
UID:e.2776.10577
SEQUENCE:3
DTSTAMP:20260424T221048Z
URL:https://business.harfordchamber.org/events/details/harford-county-s-business-builder-series-part-4-10577
END:VEVENT

END:VCALENDAR
